BEGIN:VCALENDAR
VERSION:2.0
PRODID:-//Jazz Matters - ECPv6.15.20//NONSGML v1.0//EN
CALSCALE:GREGORIAN
METHOD:PUBLISH
X-WR-CALNAME:Jazz Matters
X-ORIGINAL-URL:https://yesjazzmatters.org
X-WR-CALDESC:Events for Jazz Matters
REFRESH-INTERVAL;VALUE=DURATION:PT1H
X-Robots-Tag:noindex
X-PUBLISHED-TTL:PT1H
BEGIN:VTIMEZONE
TZID:UTC
BEGIN:STANDARD
TZOFFSETFROM:+0000
TZOFFSETTO:+0000
TZNAME:UTC
DTSTART:20230101T000000
END:STANDARD
END:VTIMEZONE
BEGIN:VTIMEZONE
TZID:UTC
BEGIN:STANDARD
TZOFFSETFROM:+0000
TZOFFSETTO:+0000
TZNAME:UTC
DTSTART:20230101T000000
END:STANDARD
END:VTIMEZONE
BEGIN:VEVENT
DTSTART;TZID=UTC:20240903T193000
DTEND;TZID=UTC:20240903T200000
DTSTAMP:20260423T234140
CREATED:20200707T164156Z
LAST-MODIFIED:20200707T164156Z
UID:2922-1725391800-1725393600@yesjazzmatters.org
SUMMARY:Yes Jazz Matters Podcast
DESCRIPTION:Just two Brotha’s\, a renown bassist Edwin Williams and a passionate Jazz cultural enthusiast\, actor and internet radio Air Personality Von Coulter discussing\, the legacy of America’s Original Art form … Jazz. \nThis show was created for those\nwho love jazz or for those who just aren’t sure what jazz is. Enjoy engaging interviews with legendary musicians; discussions on Atlanta’s rich jazz history\, the latest trends in jazz; music reviews; and more. \nListen each Tuesday for new episodes or  listen to previous episodes\, just click https://anchor.fm/jazz-matters. \n\n\n\n 
URL:https://yesjazzmatters.org/event/yes-jazz-matters-podcast-2-2024-09-03
END:VEVENT
BEGIN:VEVENT
DTSTART;TZID=UTC:20240827T193000
DTEND;TZID=UTC:20240827T200000
DTSTAMP:20260423T234140
CREATED:20200707T164156Z
LAST-MODIFIED:20200707T164156Z
UID:2921-1724787000-1724788800@yesjazzmatters.org
SUMMARY:Yes Jazz Matters Podcast
DESCRIPTION:Just two Brotha’s\, a renown bassist Edwin Williams and a passionate Jazz cultural enthusiast\, actor and internet radio Air Personality Von Coulter discussing\, the legacy of America’s Original Art form … Jazz. \nThis show was created for those\nwho love jazz or for those who just aren’t sure what jazz is. Enjoy engaging interviews with legendary musicians; discussions on Atlanta’s rich jazz history\, the latest trends in jazz; music reviews; and more. \nListen each Tuesday for new episodes or  listen to previous episodes\, just click https://anchor.fm/jazz-matters. \n\n\n\n 
URL:https://yesjazzmatters.org/event/yes-jazz-matters-podcast-2-2024-08-27
END:VEVENT
BEGIN:VEVENT
DTSTART;TZID=UTC:20240820T193000
DTEND;TZID=UTC:20240820T200000
DTSTAMP:20260423T234140
CREATED:20200707T164156Z
LAST-MODIFIED:20200707T164156Z
UID:2920-1724182200-1724184000@yesjazzmatters.org
SUMMARY:Yes Jazz Matters Podcast
DESCRIPTION:Just two Brotha’s\, a renown bassist Edwin Williams and a passionate Jazz cultural enthusiast\, actor and internet radio Air Personality Von Coulter discussing\, the legacy of America’s Original Art form … Jazz. \nThis show was created for those\nwho love jazz or for those who just aren’t sure what jazz is. Enjoy engaging interviews with legendary musicians; discussions on Atlanta’s rich jazz history\, the latest trends in jazz; music reviews; and more. \nListen each Tuesday for new episodes or  listen to previous episodes\, just click https://anchor.fm/jazz-matters. \n\n\n\n 
URL:https://yesjazzmatters.org/event/yes-jazz-matters-podcast-2-2024-08-20
END:VEVENT
BEGIN:VEVENT
DTSTART;TZID=UTC:20240813T193000
DTEND;TZID=UTC:20240813T200000
DTSTAMP:20260423T234140
CREATED:20200707T164156Z
LAST-MODIFIED:20200707T164156Z
UID:2919-1723577400-1723579200@yesjazzmatters.org
SUMMARY:Yes Jazz Matters Podcast
DESCRIPTION:Just two Brotha’s\, a renown bassist Edwin Williams and a passionate Jazz cultural enthusiast\, actor and internet radio Air Personality Von Coulter discussing\, the legacy of America’s Original Art form … Jazz. \nThis show was created for those\nwho love jazz or for those who just aren’t sure what jazz is. Enjoy engaging interviews with legendary musicians; discussions on Atlanta’s rich jazz history\, the latest trends in jazz; music reviews; and more. \nListen each Tuesday for new episodes or  listen to previous episodes\, just click https://anchor.fm/jazz-matters. \n\n\n\n 
URL:https://yesjazzmatters.org/event/yes-jazz-matters-podcast-2-2024-08-13
END:VEVENT
BEGIN:VEVENT
DTSTART;TZID=UTC:20240806T193000
DTEND;TZID=UTC:20240806T200000
DTSTAMP:20260423T234140
CREATED:20200707T164156Z
LAST-MODIFIED:20200707T164156Z
UID:2907-1722972600-1722974400@yesjazzmatters.org
SUMMARY:Yes Jazz Matters Podcast
DESCRIPTION:Just two Brotha’s\, a renown bassist Edwin Williams and a passionate Jazz cultural enthusiast\, actor and internet radio Air Personality Von Coulter discussing\, the legacy of America’s Original Art form … Jazz. \nThis show was created for those\nwho love jazz or for those who just aren’t sure what jazz is. Enjoy engaging interviews with legendary musicians; discussions on Atlanta’s rich jazz history\, the latest trends in jazz; music reviews; and more. \nListen each Tuesday for new episodes or  listen to previous episodes\, just click https://anchor.fm/jazz-matters. \n\n\n\n 
URL:https://yesjazzmatters.org/event/yes-jazz-matters-podcast-2-2024-08-06
END:VEVENT
BEGIN:VEVENT
DTSTART;TZID=UTC:20240730T193000
DTEND;TZID=UTC:20240730T200000
DTSTAMP:20260423T234140
CREATED:20200707T164156Z
LAST-MODIFIED:20200707T164156Z
UID:2872-1722367800-1722369600@yesjazzmatters.org
SUMMARY:Yes Jazz Matters Podcast
DESCRIPTION:Just two Brotha’s\, a renown bassist Edwin Williams and a passionate Jazz cultural enthusiast\, actor and internet radio Air Personality Von Coulter discussing\, the legacy of America’s Original Art form … Jazz. \nThis show was created for those\nwho love jazz or for those who just aren’t sure what jazz is. Enjoy engaging interviews with legendary musicians; discussions on Atlanta’s rich jazz history\, the latest trends in jazz; music reviews; and more. \nListen each Tuesday for new episodes or  listen to previous episodes\, just click https://anchor.fm/jazz-matters. \n\n\n\n 
URL:https://yesjazzmatters.org/event/yes-jazz-matters-podcast-2-2024-07-30
END:VEVENT
BEGIN:VEVENT
DTSTART;TZID=UTC:20240726T193000
DTEND;TZID=UTC:20240726T230000
DTSTAMP:20260423T234140
CREATED:20240510T040124Z
LAST-MODIFIED:20240510T040124Z
UID:3738-1722022200-1722034800@yesjazzmatters.org
SUMMARY:8th Annual Jazz Matters At The Wren's Nest
DESCRIPTION:Indulge in an evening of fantastic music while celebrating the enchanting sounds of Philadelphia and a salute to iconic jazz bassists. \nJune 28\, 2024 @ 7:30P  \nCelebrating the Sounds of Philly\, Jazz & Soul with a Tribute to Songwriting Duo Gamble & Huff. Artists TBD \nJULY 26\, 2024 @ 7:30P \nJazz\, Cool\, Smooth & Soulful with A Special Tribute to Bassists Stanley Clarke\, Jaco Pastorius & Ron Carter with Special Guest Tony Hightower and more … \n  \n#jazz #jazzmattersat #jazzbassists #gambleandhuff #livemusicATL #bassplayer #musicians #livemusicjunkiez #atljazz #jazzsingers
URL:https://yesjazzmatters.org/event/8th-annual-jazz-matters-at-the-wrens-nest
LOCATION:The Wren’s Nest\, 1050 Ralph David Abernathy Blvd\, Atlanta\, GA\, 30310\, United States
ORGANIZER;CN="Jazz Matters Inc.":MAILTO:yesjazzmatters@gmail.com
END:VEVENT
BEGIN:VEVENT
DTSTART;TZID=UTC:20240726T193000
DTEND;TZID=UTC:20240726T230000
DTSTAMP:20260423T234140
CREATED:20240502T020848Z
LAST-MODIFIED:20240502T020848Z
UID:3752-1722022200-1722034800@yesjazzmatters.org
SUMMARY:
DESCRIPTION:Indulge in an evening of fantastic music while celebrating the enchanting sounds of Philadelphia and a salute to iconic jazz bassists. \nJune 28\, 2024 @ 7:30P  \nCelebrating the Sounds of Philly\, Jazz & Soul with a Tribute to Songwriting Duo Gamble & Huff. Artists TBD \nJULY 26\, 2024 @ 7:30P  \nJazz\, Cool\, Smooth & Soulful with A Special Tribute to Bassists Stanley Clarke\, Jaco Pastorius & Ron Carter with Special Guest Tony Hightower and more …
URL:https://yesjazzmatters.org/event/3752
LOCATION:The Wren’s Nest\, 1050 Ralph David Abernathy Blvd\, Atlanta\, GA\, 30310\, United States
ORGANIZER;CN="Jazz Matters Inc.":MAILTO:yesjazzmatters@gmail.com
END:VEVENT
BEGIN:VEVENT
DTSTART;TZID=UTC:20240723T193000
DTEND;TZID=UTC:20240723T200000
DTSTAMP:20260423T234140
CREATED:20200707T164156Z
LAST-MODIFIED:20200707T164156Z
UID:2871-1721763000-1721764800@yesjazzmatters.org
SUMMARY:Yes Jazz Matters Podcast
DESCRIPTION:Just two Brotha’s\, a renown bassist Edwin Williams and a passionate Jazz cultural enthusiast\, actor and internet radio Air Personality Von Coulter discussing\, the legacy of America’s Original Art form … Jazz. \nThis show was created for those\nwho love jazz or for those who just aren’t sure what jazz is. Enjoy engaging interviews with legendary musicians; discussions on Atlanta’s rich jazz history\, the latest trends in jazz; music reviews; and more. \nListen each Tuesday for new episodes or  listen to previous episodes\, just click https://anchor.fm/jazz-matters. \n\n\n\n 
URL:https://yesjazzmatters.org/event/yes-jazz-matters-podcast-2-2024-07-23
END:VEVENT
BEGIN:VEVENT
DTSTART;TZID=UTC:20240716T193000
DTEND;TZID=UTC:20240716T200000
DTSTAMP:20260423T234140
CREATED:20200707T164156Z
LAST-MODIFIED:20200707T164156Z
UID:2870-1721158200-1721160000@yesjazzmatters.org
SUMMARY:Yes Jazz Matters Podcast
DESCRIPTION:Just two Brotha’s\, a renown bassist Edwin Williams and a passionate Jazz cultural enthusiast\, actor and internet radio Air Personality Von Coulter discussing\, the legacy of America’s Original Art form … Jazz. \nThis show was created for those\nwho love jazz or for those who just aren’t sure what jazz is. Enjoy engaging interviews with legendary musicians; discussions on Atlanta’s rich jazz history\, the latest trends in jazz; music reviews; and more. \nListen each Tuesday for new episodes or  listen to previous episodes\, just click https://anchor.fm/jazz-matters. \n\n\n\n 
URL:https://yesjazzmatters.org/event/yes-jazz-matters-podcast-2-2024-07-16
END:VEVENT
BEGIN:VEVENT
DTSTART;TZID=UTC:20240709T193000
DTEND;TZID=UTC:20240709T200000
DTSTAMP:20260423T234140
CREATED:20200707T164156Z
LAST-MODIFIED:20200707T164156Z
UID:2868-1720553400-1720555200@yesjazzmatters.org
SUMMARY:Yes Jazz Matters Podcast
DESCRIPTION:Just two Brotha’s\, a renown bassist Edwin Williams and a passionate Jazz cultural enthusiast\, actor and internet radio Air Personality Von Coulter discussing\, the legacy of America’s Original Art form … Jazz. \nThis show was created for those\nwho love jazz or for those who just aren’t sure what jazz is. Enjoy engaging interviews with legendary musicians; discussions on Atlanta’s rich jazz history\, the latest trends in jazz; music reviews; and more. \nListen each Tuesday for new episodes or  listen to previous episodes\, just click https://anchor.fm/jazz-matters. \n\n\n\n 
URL:https://yesjazzmatters.org/event/yes-jazz-matters-podcast-2-2024-07-09
END:VEVENT
BEGIN:VEVENT
DTSTART;TZID=UTC:20240702T193000
DTEND;TZID=UTC:20240702T200000
DTSTAMP:20260423T234140
CREATED:20200707T164156Z
LAST-MODIFIED:20200707T164156Z
UID:2867-1719948600-1719950400@yesjazzmatters.org
SUMMARY:Yes Jazz Matters Podcast
DESCRIPTION:Just two Brotha’s\, a renown bassist Edwin Williams and a passionate Jazz cultural enthusiast\, actor and internet radio Air Personality Von Coulter discussing\, the legacy of America’s Original Art form … Jazz. \nThis show was created for those\nwho love jazz or for those who just aren’t sure what jazz is. Enjoy engaging interviews with legendary musicians; discussions on Atlanta’s rich jazz history\, the latest trends in jazz; music reviews; and more. \nListen each Tuesday for new episodes or  listen to previous episodes\, just click https://anchor.fm/jazz-matters. \n\n\n\n 
URL:https://yesjazzmatters.org/event/yes-jazz-matters-podcast-2-2024-07-02
END:VEVENT
BEGIN:VEVENT
DTSTART;TZID=UTC:20240628T193000
DTEND;TZID=UTC:20240628T230000
DTSTAMP:20260423T234140
CREATED:20240502T020326Z
LAST-MODIFIED:20240510T032612Z
UID:3749-1719603000-1719615600@yesjazzmatters.org
SUMMARY:8th Annual Jazz Matters At The Wren's Nest
DESCRIPTION:Indulge in an evening of fantastic music while celebrating the enchanting sounds of Philadelphia and a salute to iconic jazz bassists. \nJune 28\, 2024 @ 7:30P  \nCelebrating the Sounds of Philly\, Jazz & Soul with a Tribute to Songwriting Duo Gamble & Huff. Artists TBD \nJULY 26\, 2024 @ 7:30P  \nJazz\, Cool\, Smooth & Soulful with A Special Tribute to Bassists Stanley Clarke\, Jaco Pastorius & Ron Carter with Special Guest Tony Hightower and more …
URL:https://yesjazzmatters.org/event/7th-annual-jazz-matters-at-the-wrens-nest
LOCATION:The Wren’s Nest\, 1050 Ralph David Abernathy Blvd\, Atlanta\, GA\, 30310\, United States
CATEGORIES:Blues,concerts,Contemporary Jazz,Food Truck,Jazz,Live Music,Smooth Jazz
ORGANIZER;CN="Jazz Matters Inc.":MAILTO:yesjazzmatters@gmail.com
END:VEVENT
BEGIN:VEVENT
DTSTART;TZID=UTC:20240625T193000
DTEND;TZID=UTC:20240625T200000
DTSTAMP:20260423T234140
CREATED:20200707T164156Z
LAST-MODIFIED:20200707T164156Z
UID:2862-1719343800-1719345600@yesjazzmatters.org
SUMMARY:Yes Jazz Matters Podcast
DESCRIPTION:Just two Brotha’s\, a renown bassist Edwin Williams and a passionate Jazz cultural enthusiast\, actor and internet radio Air Personality Von Coulter discussing\, the legacy of America’s Original Art form … Jazz. \nThis show was created for those\nwho love jazz or for those who just aren’t sure what jazz is. Enjoy engaging interviews with legendary musicians; discussions on Atlanta’s rich jazz history\, the latest trends in jazz; music reviews; and more. \nListen each Tuesday for new episodes or  listen to previous episodes\, just click https://anchor.fm/jazz-matters. \n\n\n\n 
URL:https://yesjazzmatters.org/event/yes-jazz-matters-podcast-2-2024-06-25
END:VEVENT
BEGIN:VEVENT
DTSTART;TZID=UTC:20240618T193000
DTEND;TZID=UTC:20240618T200000
DTSTAMP:20260423T234140
CREATED:20200707T164156Z
LAST-MODIFIED:20200707T164156Z
UID:2850-1718739000-1718740800@yesjazzmatters.org
SUMMARY:Yes Jazz Matters Podcast
DESCRIPTION:Just two Brotha’s\, a renown bassist Edwin Williams and a passionate Jazz cultural enthusiast\, actor and internet radio Air Personality Von Coulter discussing\, the legacy of America’s Original Art form … Jazz. \nThis show was created for those\nwho love jazz or for those who just aren’t sure what jazz is. Enjoy engaging interviews with legendary musicians; discussions on Atlanta’s rich jazz history\, the latest trends in jazz; music reviews; and more. \nListen each Tuesday for new episodes or  listen to previous episodes\, just click https://anchor.fm/jazz-matters. \n\n\n\n 
URL:https://yesjazzmatters.org/event/yes-jazz-matters-podcast-2-2024-06-18
END:VEVENT
BEGIN:VEVENT
DTSTART;TZID=UTC:20240611T193000
DTEND;TZID=UTC:20240611T200000
DTSTAMP:20260423T234140
CREATED:20200707T164156Z
LAST-MODIFIED:20200707T164156Z
UID:2848-1718134200-1718136000@yesjazzmatters.org
SUMMARY:Yes Jazz Matters Podcast
DESCRIPTION:Just two Brotha’s\, a renown bassist Edwin Williams and a passionate Jazz cultural enthusiast\, actor and internet radio Air Personality Von Coulter discussing\, the legacy of America’s Original Art form … Jazz. \nThis show was created for those\nwho love jazz or for those who just aren’t sure what jazz is. Enjoy engaging interviews with legendary musicians; discussions on Atlanta’s rich jazz history\, the latest trends in jazz; music reviews; and more. \nListen each Tuesday for new episodes or  listen to previous episodes\, just click https://anchor.fm/jazz-matters. \n\n\n\n 
URL:https://yesjazzmatters.org/event/yes-jazz-matters-podcast-2-2024-06-11
END:VEVENT
BEGIN:VEVENT
DTSTART;TZID=UTC:20240604T193000
DTEND;TZID=UTC:20240604T200000
DTSTAMP:20260423T234140
CREATED:20200707T164156Z
LAST-MODIFIED:20200707T164156Z
UID:2730-1717529400-1717531200@yesjazzmatters.org
SUMMARY:Yes Jazz Matters Podcast
DESCRIPTION:Just two Brotha’s\, a renown bassist Edwin Williams and a passionate Jazz cultural enthusiast\, actor and internet radio Air Personality Von Coulter discussing\, the legacy of America’s Original Art form … Jazz. \nThis show was created for those\nwho love jazz or for those who just aren’t sure what jazz is. Enjoy engaging interviews with legendary musicians; discussions on Atlanta’s rich jazz history\, the latest trends in jazz; music reviews; and more. \nListen each Tuesday for new episodes or  listen to previous episodes\, just click https://anchor.fm/jazz-matters. \n\n\n\n 
URL:https://yesjazzmatters.org/event/yes-jazz-matters-podcast-2-2024-06-04
END:VEVENT
BEGIN:VEVENT
DTSTART;TZID=UTC:20240601T170000
DTEND;TZID=UTC:20240601T213000
DTSTAMP:20260423T234140
CREATED:20240308T041126Z
LAST-MODIFIED:20240308T041126Z
UID:3696-1717261200-1717277400@yesjazzmatters.org
SUMMARY:Jazz\, Blues & BBQ
DESCRIPTION:Mark your calendars! Get ready to jazz up your life as Jazz Matters ATL presents a Jazz\, Blues & BBQ extravaganza with an amazing lineup including Edwin Williams\, Terry Dukes\, Randell Rivers\, L’Tanya “Sugar Lips” Shields-Turner\, and The Bill Hart Band at The Suwanee Georgia Towne Center on June 1\, 2024. Expect delicious food\, soulful tunes\, and a whole lot of good times. You won’t want to skip this!
URL:https://yesjazzmatters.org/event/jazz-blues-bbq
LOCATION:Suwanee Town Center\, 330 Town Center Avenue\, Suwanee\, GA\, 30024
ORGANIZER;CN="Jazz Matters Inc.":MAILTO:yesjazzmatters@gmail.com
END:VEVENT
BEGIN:VEVENT
DTSTART;TZID=UTC:20240528T193000
DTEND;TZID=UTC:20240528T200000
DTSTAMP:20260423T234140
CREATED:20200707T164156Z
LAST-MODIFIED:20200707T164156Z
UID:2729-1716924600-1716926400@yesjazzmatters.org
SUMMARY:Yes Jazz Matters Podcast
DESCRIPTION:Just two Brotha’s\, a renown bassist Edwin Williams and a passionate Jazz cultural enthusiast\, actor and internet radio Air Personality Von Coulter discussing\, the legacy of America’s Original Art form … Jazz. \nThis show was created for those\nwho love jazz or for those who just aren’t sure what jazz is. Enjoy engaging interviews with legendary musicians; discussions on Atlanta’s rich jazz history\, the latest trends in jazz; music reviews; and more. \nListen each Tuesday for new episodes or  listen to previous episodes\, just click https://anchor.fm/jazz-matters. \n\n\n\n 
URL:https://yesjazzmatters.org/event/yes-jazz-matters-podcast-2-2024-05-28
END:VEVENT
BEGIN:VEVENT
DTSTART;TZID=UTC:20240521T193000
DTEND;TZID=UTC:20240521T200000
DTSTAMP:20260423T234140
CREATED:20200707T164156Z
LAST-MODIFIED:20200707T164156Z
UID:2702-1716319800-1716321600@yesjazzmatters.org
SUMMARY:Yes Jazz Matters Podcast
DESCRIPTION:Just two Brotha’s\, a renown bassist Edwin Williams and a passionate Jazz cultural enthusiast\, actor and internet radio Air Personality Von Coulter discussing\, the legacy of America’s Original Art form … Jazz. \nThis show was created for those\nwho love jazz or for those who just aren’t sure what jazz is. Enjoy engaging interviews with legendary musicians; discussions on Atlanta’s rich jazz history\, the latest trends in jazz; music reviews; and more. \nListen each Tuesday for new episodes or  listen to previous episodes\, just click https://anchor.fm/jazz-matters. \n\n\n\n 
URL:https://yesjazzmatters.org/event/yes-jazz-matters-podcast-2-2024-05-21
END:VEVENT
BEGIN:VEVENT
DTSTART;TZID=UTC:20240514T193000
DTEND;TZID=UTC:20240514T200000
DTSTAMP:20260423T234140
CREATED:20200707T164156Z
LAST-MODIFIED:20200707T164156Z
UID:2683-1715715000-1715716800@yesjazzmatters.org
SUMMARY:Yes Jazz Matters Podcast
DESCRIPTION:Just two Brotha’s\, a renown bassist Edwin Williams and a passionate Jazz cultural enthusiast\, actor and internet radio Air Personality Von Coulter discussing\, the legacy of America’s Original Art form … Jazz. \nThis show was created for those\nwho love jazz or for those who just aren’t sure what jazz is. Enjoy engaging interviews with legendary musicians; discussions on Atlanta’s rich jazz history\, the latest trends in jazz; music reviews; and more. \nListen each Tuesday for new episodes or  listen to previous episodes\, just click https://anchor.fm/jazz-matters. \n\n\n\n 
URL:https://yesjazzmatters.org/event/yes-jazz-matters-podcast-2-2024-05-14
END:VEVENT
BEGIN:VEVENT
DTSTART;TZID=UTC:20240507T193000
DTEND;TZID=UTC:20240507T200000
DTSTAMP:20260423T234140
CREATED:20200707T164156Z
LAST-MODIFIED:20200707T164156Z
UID:2675-1715110200-1715112000@yesjazzmatters.org
SUMMARY:Yes Jazz Matters Podcast
DESCRIPTION:Just two Brotha’s\, a renown bassist Edwin Williams and a passionate Jazz cultural enthusiast\, actor and internet radio Air Personality Von Coulter discussing\, the legacy of America’s Original Art form … Jazz. \nThis show was created for those\nwho love jazz or for those who just aren’t sure what jazz is. Enjoy engaging interviews with legendary musicians; discussions on Atlanta’s rich jazz history\, the latest trends in jazz; music reviews; and more. \nListen each Tuesday for new episodes or  listen to previous episodes\, just click https://anchor.fm/jazz-matters. \n\n\n\n 
URL:https://yesjazzmatters.org/event/yes-jazz-matters-podcast-2-2024-05-07
END:VEVENT
BEGIN:VEVENT
DTSTART;TZID=UTC:20240430T193000
DTEND;TZID=UTC:20240430T200000
DTSTAMP:20260423T234140
CREATED:20200707T164156Z
LAST-MODIFIED:20200707T164156Z
UID:2657-1714505400-1714507200@yesjazzmatters.org
SUMMARY:Yes Jazz Matters Podcast
DESCRIPTION:Just two Brotha’s\, a renown bassist Edwin Williams and a passionate Jazz cultural enthusiast\, actor and internet radio Air Personality Von Coulter discussing\, the legacy of America’s Original Art form … Jazz. \nThis show was created for those\nwho love jazz or for those who just aren’t sure what jazz is. Enjoy engaging interviews with legendary musicians; discussions on Atlanta’s rich jazz history\, the latest trends in jazz; music reviews; and more. \nListen each Tuesday for new episodes or  listen to previous episodes\, just click https://anchor.fm/jazz-matters. \n\n\n\n 
URL:https://yesjazzmatters.org/event/yes-jazz-matters-podcast-2-2024-04-30
END:VEVENT
BEGIN:VEVENT
DTSTART;TZID=UTC:20240426T073000
DTEND;TZID=UTC:20240426T200000
DTSTAMP:20260423T234140
CREATED:20240308T035959Z
LAST-MODIFIED:20240308T041324Z
UID:3690-1714116600-1714161600@yesjazzmatters.org
SUMMARY:Jazz Appreciation Month
DESCRIPTION:Celebrate Jazz Appreciation Month with Jazz Matters at the ArtsXchange in East Point\, GA on April 26. Experience captivating performances by bassist Edwin Williams & Friends\, with vocalists Terry Dukes & Cheryl Johnson\, as they lead you on a delightful jazz-filled adventure.\nDon’t forget to save the date for an evening full of soulful jazz\, upbeat vibes\, and loads of entertainment.\nThis event is free and open to the public.\nSponsored by the Musicians Performance Trust Fund and ATL Federation of Musicians Local 148-462.
URL:https://yesjazzmatters.org/event/jazz-appreciation-month
LOCATION:ArtsXchange\, 2148 Newnan St.\, East Point\, 30344\, United States
CATEGORIES:Blues,concerts,Contemporary Jazz,Food Truck,Jazz,Live Music,Smooth Jazz
ORGANIZER;CN="Jazz Matters Inc.":MAILTO:yesjazzmatters@gmail.com
END:VEVENT
BEGIN:VEVENT
DTSTART;TZID=UTC:20240423T193000
DTEND;TZID=UTC:20240423T200000
DTSTAMP:20260423T234140
CREATED:20200707T164156Z
LAST-MODIFIED:20200707T164156Z
UID:2656-1713900600-1713902400@yesjazzmatters.org
SUMMARY:Yes Jazz Matters Podcast
DESCRIPTION:Just two Brotha’s\, a renown bassist Edwin Williams and a passionate Jazz cultural enthusiast\, actor and internet radio Air Personality Von Coulter discussing\, the legacy of America’s Original Art form … Jazz. \nThis show was created for those\nwho love jazz or for those who just aren’t sure what jazz is. Enjoy engaging interviews with legendary musicians; discussions on Atlanta’s rich jazz history\, the latest trends in jazz; music reviews; and more. \nListen each Tuesday for new episodes or  listen to previous episodes\, just click https://anchor.fm/jazz-matters. \n\n\n\n 
URL:https://yesjazzmatters.org/event/yes-jazz-matters-podcast-2-2024-04-23
END:VEVENT
BEGIN:VEVENT
DTSTART;TZID=UTC:20240416T193000
DTEND;TZID=UTC:20240416T200000
DTSTAMP:20260423T234140
CREATED:20200707T164156Z
LAST-MODIFIED:20200707T164156Z
UID:2655-1713295800-1713297600@yesjazzmatters.org
SUMMARY:Yes Jazz Matters Podcast
DESCRIPTION:Just two Brotha’s\, a renown bassist Edwin Williams and a passionate Jazz cultural enthusiast\, actor and internet radio Air Personality Von Coulter discussing\, the legacy of America’s Original Art form … Jazz. \nThis show was created for those\nwho love jazz or for those who just aren’t sure what jazz is. Enjoy engaging interviews with legendary musicians; discussions on Atlanta’s rich jazz history\, the latest trends in jazz; music reviews; and more. \nListen each Tuesday for new episodes or  listen to previous episodes\, just click https://anchor.fm/jazz-matters. \n\n\n\n 
URL:https://yesjazzmatters.org/event/yes-jazz-matters-podcast-2-2024-04-16
END:VEVENT
BEGIN:VEVENT
DTSTART;TZID=UTC:20240409T193000
DTEND;TZID=UTC:20240409T200000
DTSTAMP:20260423T234140
CREATED:20200707T164156Z
LAST-MODIFIED:20200707T164156Z
UID:2654-1712691000-1712692800@yesjazzmatters.org
SUMMARY:Yes Jazz Matters Podcast
DESCRIPTION:Just two Brotha’s\, a renown bassist Edwin Williams and a passionate Jazz cultural enthusiast\, actor and internet radio Air Personality Von Coulter discussing\, the legacy of America’s Original Art form … Jazz. \nThis show was created for those\nwho love jazz or for those who just aren’t sure what jazz is. Enjoy engaging interviews with legendary musicians; discussions on Atlanta’s rich jazz history\, the latest trends in jazz; music reviews; and more. \nListen each Tuesday for new episodes or  listen to previous episodes\, just click https://anchor.fm/jazz-matters. \n\n\n\n 
URL:https://yesjazzmatters.org/event/yes-jazz-matters-podcast-2-2024-04-09
END:VEVENT
BEGIN:VEVENT
DTSTART;TZID=UTC:20240402T193000
DTEND;TZID=UTC:20240402T200000
DTSTAMP:20260423T234140
CREATED:20200707T164156Z
LAST-MODIFIED:20200707T164156Z
UID:2653-1712086200-1712088000@yesjazzmatters.org
SUMMARY:Yes Jazz Matters Podcast
DESCRIPTION:Just two Brotha’s\, a renown bassist Edwin Williams and a passionate Jazz cultural enthusiast\, actor and internet radio Air Personality Von Coulter discussing\, the legacy of America’s Original Art form … Jazz. \nThis show was created for those\nwho love jazz or for those who just aren’t sure what jazz is. Enjoy engaging interviews with legendary musicians; discussions on Atlanta’s rich jazz history\, the latest trends in jazz; music reviews; and more. \nListen each Tuesday for new episodes or  listen to previous episodes\, just click https://anchor.fm/jazz-matters. \n\n\n\n 
URL:https://yesjazzmatters.org/event/yes-jazz-matters-podcast-2-2024-04-02
END:VEVENT
BEGIN:VEVENT
DTSTART;TZID=UTC:20240326T193000
DTEND;TZID=UTC:20240326T200000
DTSTAMP:20260423T234140
CREATED:20200707T164156Z
LAST-MODIFIED:20200707T164156Z
UID:2652-1711481400-1711483200@yesjazzmatters.org
SUMMARY:Yes Jazz Matters Podcast
DESCRIPTION:Just two Brotha’s\, a renown bassist Edwin Williams and a passionate Jazz cultural enthusiast\, actor and internet radio Air Personality Von Coulter discussing\, the legacy of America’s Original Art form … Jazz. \nThis show was created for those\nwho love jazz or for those who just aren’t sure what jazz is. Enjoy engaging interviews with legendary musicians; discussions on Atlanta’s rich jazz history\, the latest trends in jazz; music reviews; and more. \nListen each Tuesday for new episodes or  listen to previous episodes\, just click https://anchor.fm/jazz-matters. \n\n\n\n 
URL:https://yesjazzmatters.org/event/yes-jazz-matters-podcast-2-2024-03-26
END:VEVENT
BEGIN:VEVENT
DTSTART;TZID=UTC:20240319T193000
DTEND;TZID=UTC:20240319T200000
DTSTAMP:20260423T234140
CREATED:20200707T164156Z
LAST-MODIFIED:20200707T164156Z
UID:2651-1710876600-1710878400@yesjazzmatters.org
SUMMARY:Yes Jazz Matters Podcast
DESCRIPTION:Just two Brotha’s\, a renown bassist Edwin Williams and a passionate Jazz cultural enthusiast\, actor and internet radio Air Personality Von Coulter discussing\, the legacy of America’s Original Art form … Jazz. \nThis show was created for those\nwho love jazz or for those who just aren’t sure what jazz is. Enjoy engaging interviews with legendary musicians; discussions on Atlanta’s rich jazz history\, the latest trends in jazz; music reviews; and more. \nListen each Tuesday for new episodes or  listen to previous episodes\, just click https://anchor.fm/jazz-matters. \n\n\n\n 
URL:https://yesjazzmatters.org/event/yes-jazz-matters-podcast-2-2024-03-19
END:VEVENT
END:VCALENDAR