BEGIN:VCALENDAR
VERSION:2.0
PRODID:-//Jazz Matters - ECPv6.15.20//NONSGML v1.0//EN
CALSCALE:GREGORIAN
METHOD:PUBLISH
X-ORIGINAL-URL:https://yesjazzmatters.org
X-WR-CALDESC:Events for Jazz Matters
REFRESH-INTERVAL;VALUE=DURATION:PT1H
X-Robots-Tag:noindex
X-PUBLISHED-TTL:PT1H
BEGIN:VTIMEZONE
TZID:UTC
BEGIN:STANDARD
TZOFFSETFROM:+0000
TZOFFSETTO:+0000
TZNAME:UTC
DTSTART:20210101T000000
END:STANDARD
END:VTIMEZONE
BEGIN:VEVENT
DTSTART;TZID=UTC:20230418T193000
DTEND;TZID=UTC:20230418T200000
DTSTAMP:20260424T133740
CREATED:20200707T164156Z
LAST-MODIFIED:20200707T164156Z
UID:2603-1681846200-1681848000@yesjazzmatters.org
SUMMARY:Yes Jazz Matters Podcast
DESCRIPTION:Just two Brotha’s\, a renown bassist Edwin Williams and a passionate Jazz cultural enthusiast\, actor and internet radio Air Personality Von Coulter discussing\, the legacy of America’s Original Art form … Jazz. \nThis show was created for those\nwho love jazz or for those who just aren’t sure what jazz is. Enjoy engaging interviews with legendary musicians; discussions on Atlanta’s rich jazz history\, the latest trends in jazz; music reviews; and more. \nListen each Tuesday for new episodes or  listen to previous episodes\, just click https://anchor.fm/jazz-matters. \n\n\n\n 
URL:https://yesjazzmatters.org/event/yes-jazz-matters-podcast-2-2023-04-18
END:VEVENT
BEGIN:VEVENT
DTSTART;TZID=UTC:20230411T193000
DTEND;TZID=UTC:20230411T200000
DTSTAMP:20260424T133740
CREATED:20200707T164156Z
LAST-MODIFIED:20200707T164156Z
UID:2602-1681241400-1681243200@yesjazzmatters.org
SUMMARY:Yes Jazz Matters Podcast
DESCRIPTION:Just two Brotha’s\, a renown bassist Edwin Williams and a passionate Jazz cultural enthusiast\, actor and internet radio Air Personality Von Coulter discussing\, the legacy of America’s Original Art form … Jazz. \nThis show was created for those\nwho love jazz or for those who just aren’t sure what jazz is. Enjoy engaging interviews with legendary musicians; discussions on Atlanta’s rich jazz history\, the latest trends in jazz; music reviews; and more. \nListen each Tuesday for new episodes or  listen to previous episodes\, just click https://anchor.fm/jazz-matters. \n\n\n\n 
URL:https://yesjazzmatters.org/event/yes-jazz-matters-podcast-2-2023-04-11
END:VEVENT
BEGIN:VEVENT
DTSTART;TZID=UTC:20230404T193000
DTEND;TZID=UTC:20230404T200000
DTSTAMP:20260424T133740
CREATED:20200707T164156Z
LAST-MODIFIED:20200707T164156Z
UID:2601-1680636600-1680638400@yesjazzmatters.org
SUMMARY:Yes Jazz Matters Podcast
DESCRIPTION:Just two Brotha’s\, a renown bassist Edwin Williams and a passionate Jazz cultural enthusiast\, actor and internet radio Air Personality Von Coulter discussing\, the legacy of America’s Original Art form … Jazz. \nThis show was created for those\nwho love jazz or for those who just aren’t sure what jazz is. Enjoy engaging interviews with legendary musicians; discussions on Atlanta’s rich jazz history\, the latest trends in jazz; music reviews; and more. \nListen each Tuesday for new episodes or  listen to previous episodes\, just click https://anchor.fm/jazz-matters. \n\n\n\n 
URL:https://yesjazzmatters.org/event/yes-jazz-matters-podcast-2-2023-04-04
END:VEVENT
BEGIN:VEVENT
DTSTART;TZID=UTC:20230328T193000
DTEND;TZID=UTC:20230328T200000
DTSTAMP:20260424T133740
CREATED:20200707T164156Z
LAST-MODIFIED:20200707T164156Z
UID:2600-1680031800-1680033600@yesjazzmatters.org
SUMMARY:Yes Jazz Matters Podcast
DESCRIPTION:Just two Brotha’s\, a renown bassist Edwin Williams and a passionate Jazz cultural enthusiast\, actor and internet radio Air Personality Von Coulter discussing\, the legacy of America’s Original Art form … Jazz. \nThis show was created for those\nwho love jazz or for those who just aren’t sure what jazz is. Enjoy engaging interviews with legendary musicians; discussions on Atlanta’s rich jazz history\, the latest trends in jazz; music reviews; and more. \nListen each Tuesday for new episodes or  listen to previous episodes\, just click https://anchor.fm/jazz-matters. \n\n\n\n 
URL:https://yesjazzmatters.org/event/yes-jazz-matters-podcast-2-2023-03-28
END:VEVENT
BEGIN:VEVENT
DTSTART;TZID=UTC:20230321T193000
DTEND;TZID=UTC:20230321T200000
DTSTAMP:20260424T133740
CREATED:20200707T164156Z
LAST-MODIFIED:20200707T164156Z
UID:2599-1679427000-1679428800@yesjazzmatters.org
SUMMARY:Yes Jazz Matters Podcast
DESCRIPTION:Just two Brotha’s\, a renown bassist Edwin Williams and a passionate Jazz cultural enthusiast\, actor and internet radio Air Personality Von Coulter discussing\, the legacy of America’s Original Art form … Jazz. \nThis show was created for those\nwho love jazz or for those who just aren’t sure what jazz is. Enjoy engaging interviews with legendary musicians; discussions on Atlanta’s rich jazz history\, the latest trends in jazz; music reviews; and more. \nListen each Tuesday for new episodes or  listen to previous episodes\, just click https://anchor.fm/jazz-matters. \n\n\n\n 
URL:https://yesjazzmatters.org/event/yes-jazz-matters-podcast-2-2023-03-21
END:VEVENT
BEGIN:VEVENT
DTSTART;TZID=UTC:20230319T160000
DTEND;TZID=UTC:20230319T180000
DTSTAMP:20260424T133740
CREATED:20230203T184846Z
LAST-MODIFIED:20230203T184846Z
UID:3163-1679241600-1679248800@yesjazzmatters.org
SUMMARY:Celebrating Women in Jazz
DESCRIPTION:Jazz Matters is celebrating Women in Jazz on Sunday\, March 19th @ 4p with featured artists\, vocalist Sandi Blair and Toye and flutist Claire McDonald.
URL:https://yesjazzmatters.org/event/celebrating-women-in-jazz
LOCATION:Fulton County Arts & Culture West End Performing Arts Center\, 945 Ralph D. Abernathy\, Atlanta\, 30310\, United States
END:VEVENT
BEGIN:VEVENT
DTSTART;TZID=UTC:20230314T193000
DTEND;TZID=UTC:20230314T200000
DTSTAMP:20260424T133740
CREATED:20200707T164156Z
LAST-MODIFIED:20200707T164156Z
UID:2598-1678822200-1678824000@yesjazzmatters.org
SUMMARY:Yes Jazz Matters Podcast
DESCRIPTION:Just two Brotha’s\, a renown bassist Edwin Williams and a passionate Jazz cultural enthusiast\, actor and internet radio Air Personality Von Coulter discussing\, the legacy of America’s Original Art form … Jazz. \nThis show was created for those\nwho love jazz or for those who just aren’t sure what jazz is. Enjoy engaging interviews with legendary musicians; discussions on Atlanta’s rich jazz history\, the latest trends in jazz; music reviews; and more. \nListen each Tuesday for new episodes or  listen to previous episodes\, just click https://anchor.fm/jazz-matters. \n\n\n\n 
URL:https://yesjazzmatters.org/event/yes-jazz-matters-podcast-2-2023-03-14
END:VEVENT
BEGIN:VEVENT
DTSTART;TZID=UTC:20230307T193000
DTEND;TZID=UTC:20230307T200000
DTSTAMP:20260424T133740
CREATED:20200707T164156Z
LAST-MODIFIED:20200707T164156Z
UID:2597-1678217400-1678219200@yesjazzmatters.org
SUMMARY:Yes Jazz Matters Podcast
DESCRIPTION:Just two Brotha’s\, a renown bassist Edwin Williams and a passionate Jazz cultural enthusiast\, actor and internet radio Air Personality Von Coulter discussing\, the legacy of America’s Original Art form … Jazz. \nThis show was created for those\nwho love jazz or for those who just aren’t sure what jazz is. Enjoy engaging interviews with legendary musicians; discussions on Atlanta’s rich jazz history\, the latest trends in jazz; music reviews; and more. \nListen each Tuesday for new episodes or  listen to previous episodes\, just click https://anchor.fm/jazz-matters. \n\n\n\n 
URL:https://yesjazzmatters.org/event/yes-jazz-matters-podcast-2-2023-03-07
END:VEVENT
BEGIN:VEVENT
DTSTART;TZID=UTC:20230228T193000
DTEND;TZID=UTC:20230228T200000
DTSTAMP:20260424T133740
CREATED:20200707T164156Z
LAST-MODIFIED:20200707T164156Z
UID:2596-1677612600-1677614400@yesjazzmatters.org
SUMMARY:Yes Jazz Matters Podcast
DESCRIPTION:Just two Brotha’s\, a renown bassist Edwin Williams and a passionate Jazz cultural enthusiast\, actor and internet radio Air Personality Von Coulter discussing\, the legacy of America’s Original Art form … Jazz. \nThis show was created for those\nwho love jazz or for those who just aren’t sure what jazz is. Enjoy engaging interviews with legendary musicians; discussions on Atlanta’s rich jazz history\, the latest trends in jazz; music reviews; and more. \nListen each Tuesday for new episodes or  listen to previous episodes\, just click https://anchor.fm/jazz-matters. \n\n\n\n 
URL:https://yesjazzmatters.org/event/yes-jazz-matters-podcast-2-2023-02-28
END:VEVENT
BEGIN:VEVENT
DTSTART;TZID=UTC:20230228T120000
DTEND;TZID=UTC:20230228T130000
DTSTAMP:20260424T133740
CREATED:20230203T182557Z
LAST-MODIFIED:20230203T182635Z
UID:3153-1677585600-1677589200@yesjazzmatters.org
SUMMARY:Celebrating Black History Month
DESCRIPTION:This performance is sponsored by The Musicians Performance Trust Fund and The Atlanta Federation of Musicians Local 148-462.
URL:https://yesjazzmatters.org/event/celebrating-black-history-month
LOCATION:Metropolitan Branch Library\, 1332 Metropolitan Pkwy\, Atlanta\, 30310\, United States
END:VEVENT
BEGIN:VEVENT
DTSTART;TZID=UTC:20230221T193000
DTEND;TZID=UTC:20230221T200000
DTSTAMP:20260424T133740
CREATED:20200707T164156Z
LAST-MODIFIED:20200707T164156Z
UID:2595-1677007800-1677009600@yesjazzmatters.org
SUMMARY:Yes Jazz Matters Podcast
DESCRIPTION:Just two Brotha’s\, a renown bassist Edwin Williams and a passionate Jazz cultural enthusiast\, actor and internet radio Air Personality Von Coulter discussing\, the legacy of America’s Original Art form … Jazz. \nThis show was created for those\nwho love jazz or for those who just aren’t sure what jazz is. Enjoy engaging interviews with legendary musicians; discussions on Atlanta’s rich jazz history\, the latest trends in jazz; music reviews; and more. \nListen each Tuesday for new episodes or  listen to previous episodes\, just click https://anchor.fm/jazz-matters. \n\n\n\n 
URL:https://yesjazzmatters.org/event/yes-jazz-matters-podcast-2-2023-02-21
END:VEVENT
BEGIN:VEVENT
DTSTART;TZID=UTC:20230214T193000
DTEND;TZID=UTC:20230214T200000
DTSTAMP:20260424T133740
CREATED:20200707T164156Z
LAST-MODIFIED:20200707T164156Z
UID:2594-1676403000-1676404800@yesjazzmatters.org
SUMMARY:Yes Jazz Matters Podcast
DESCRIPTION:Just two Brotha’s\, a renown bassist Edwin Williams and a passionate Jazz cultural enthusiast\, actor and internet radio Air Personality Von Coulter discussing\, the legacy of America’s Original Art form … Jazz. \nThis show was created for those\nwho love jazz or for those who just aren’t sure what jazz is. Enjoy engaging interviews with legendary musicians; discussions on Atlanta’s rich jazz history\, the latest trends in jazz; music reviews; and more. \nListen each Tuesday for new episodes or  listen to previous episodes\, just click https://anchor.fm/jazz-matters. \n\n\n\n 
URL:https://yesjazzmatters.org/event/yes-jazz-matters-podcast-2-2023-02-14
END:VEVENT
BEGIN:VEVENT
DTSTART;TZID=UTC:20230207T193000
DTEND;TZID=UTC:20230207T200000
DTSTAMP:20260424T133740
CREATED:20200707T164156Z
LAST-MODIFIED:20200707T164156Z
UID:2593-1675798200-1675800000@yesjazzmatters.org
SUMMARY:Yes Jazz Matters Podcast
DESCRIPTION:Just two Brotha’s\, a renown bassist Edwin Williams and a passionate Jazz cultural enthusiast\, actor and internet radio Air Personality Von Coulter discussing\, the legacy of America’s Original Art form … Jazz. \nThis show was created for those\nwho love jazz or for those who just aren’t sure what jazz is. Enjoy engaging interviews with legendary musicians; discussions on Atlanta’s rich jazz history\, the latest trends in jazz; music reviews; and more. \nListen each Tuesday for new episodes or  listen to previous episodes\, just click https://anchor.fm/jazz-matters. \n\n\n\n 
URL:https://yesjazzmatters.org/event/yes-jazz-matters-podcast-2-2023-02-07
END:VEVENT
BEGIN:VEVENT
DTSTART;TZID=UTC:20230131T193000
DTEND;TZID=UTC:20230131T200000
DTSTAMP:20260424T133740
CREATED:20200707T164156Z
LAST-MODIFIED:20200707T164156Z
UID:2592-1675193400-1675195200@yesjazzmatters.org
SUMMARY:Yes Jazz Matters Podcast
DESCRIPTION:Just two Brotha’s\, a renown bassist Edwin Williams and a passionate Jazz cultural enthusiast\, actor and internet radio Air Personality Von Coulter discussing\, the legacy of America’s Original Art form … Jazz. \nThis show was created for those\nwho love jazz or for those who just aren’t sure what jazz is. Enjoy engaging interviews with legendary musicians; discussions on Atlanta’s rich jazz history\, the latest trends in jazz; music reviews; and more. \nListen each Tuesday for new episodes or  listen to previous episodes\, just click https://anchor.fm/jazz-matters. \n\n\n\n 
URL:https://yesjazzmatters.org/event/yes-jazz-matters-podcast-2-2023-01-31
END:VEVENT
BEGIN:VEVENT
DTSTART;TZID=UTC:20230124T193000
DTEND;TZID=UTC:20230124T200000
DTSTAMP:20260424T133740
CREATED:20200707T164156Z
LAST-MODIFIED:20200707T164156Z
UID:2591-1674588600-1674590400@yesjazzmatters.org
SUMMARY:Yes Jazz Matters Podcast
DESCRIPTION:Just two Brotha’s\, a renown bassist Edwin Williams and a passionate Jazz cultural enthusiast\, actor and internet radio Air Personality Von Coulter discussing\, the legacy of America’s Original Art form … Jazz. \nThis show was created for those\nwho love jazz or for those who just aren’t sure what jazz is. Enjoy engaging interviews with legendary musicians; discussions on Atlanta’s rich jazz history\, the latest trends in jazz; music reviews; and more. \nListen each Tuesday for new episodes or  listen to previous episodes\, just click https://anchor.fm/jazz-matters. \n\n\n\n 
URL:https://yesjazzmatters.org/event/yes-jazz-matters-podcast-2-2023-01-24
END:VEVENT
BEGIN:VEVENT
DTSTART;TZID=UTC:20230117T193000
DTEND;TZID=UTC:20230117T200000
DTSTAMP:20260424T133740
CREATED:20200707T164156Z
LAST-MODIFIED:20200707T164156Z
UID:2590-1673983800-1673985600@yesjazzmatters.org
SUMMARY:Yes Jazz Matters Podcast
DESCRIPTION:Just two Brotha’s\, a renown bassist Edwin Williams and a passionate Jazz cultural enthusiast\, actor and internet radio Air Personality Von Coulter discussing\, the legacy of America’s Original Art form … Jazz. \nThis show was created for those\nwho love jazz or for those who just aren’t sure what jazz is. Enjoy engaging interviews with legendary musicians; discussions on Atlanta’s rich jazz history\, the latest trends in jazz; music reviews; and more. \nListen each Tuesday for new episodes or  listen to previous episodes\, just click https://anchor.fm/jazz-matters. \n\n\n\n 
URL:https://yesjazzmatters.org/event/yes-jazz-matters-podcast-2-2023-01-17
END:VEVENT
BEGIN:VEVENT
DTSTART;TZID=UTC:20230110T193000
DTEND;TZID=UTC:20230110T200000
DTSTAMP:20260424T133740
CREATED:20200707T164156Z
LAST-MODIFIED:20200707T164156Z
UID:2589-1673379000-1673380800@yesjazzmatters.org
SUMMARY:Yes Jazz Matters Podcast
DESCRIPTION:Just two Brotha’s\, a renown bassist Edwin Williams and a passionate Jazz cultural enthusiast\, actor and internet radio Air Personality Von Coulter discussing\, the legacy of America’s Original Art form … Jazz. \nThis show was created for those\nwho love jazz or for those who just aren’t sure what jazz is. Enjoy engaging interviews with legendary musicians; discussions on Atlanta’s rich jazz history\, the latest trends in jazz; music reviews; and more. \nListen each Tuesday for new episodes or  listen to previous episodes\, just click https://anchor.fm/jazz-matters. \n\n\n\n 
URL:https://yesjazzmatters.org/event/yes-jazz-matters-podcast-2-2023-01-10
END:VEVENT
BEGIN:VEVENT
DTSTART;TZID=UTC:20230103T193000
DTEND;TZID=UTC:20230103T200000
DTSTAMP:20260424T133740
CREATED:20200707T164156Z
LAST-MODIFIED:20200707T164156Z
UID:2588-1672774200-1672776000@yesjazzmatters.org
SUMMARY:Yes Jazz Matters Podcast
DESCRIPTION:Just two Brotha’s\, a renown bassist Edwin Williams and a passionate Jazz cultural enthusiast\, actor and internet radio Air Personality Von Coulter discussing\, the legacy of America’s Original Art form … Jazz. \nThis show was created for those\nwho love jazz or for those who just aren’t sure what jazz is. Enjoy engaging interviews with legendary musicians; discussions on Atlanta’s rich jazz history\, the latest trends in jazz; music reviews; and more. \nListen each Tuesday for new episodes or  listen to previous episodes\, just click https://anchor.fm/jazz-matters. \n\n\n\n 
URL:https://yesjazzmatters.org/event/yes-jazz-matters-podcast-2-2023-01-03
END:VEVENT
BEGIN:VEVENT
DTSTART;TZID=UTC:20221227T193000
DTEND;TZID=UTC:20221227T200000
DTSTAMP:20260424T133740
CREATED:20200707T164156Z
LAST-MODIFIED:20200707T164156Z
UID:2587-1672169400-1672171200@yesjazzmatters.org
SUMMARY:Yes Jazz Matters Podcast
DESCRIPTION:Just two Brotha’s\, a renown bassist Edwin Williams and a passionate Jazz cultural enthusiast\, actor and internet radio Air Personality Von Coulter discussing\, the legacy of America’s Original Art form … Jazz. \nThis show was created for those\nwho love jazz or for those who just aren’t sure what jazz is. Enjoy engaging interviews with legendary musicians; discussions on Atlanta’s rich jazz history\, the latest trends in jazz; music reviews; and more. \nListen each Tuesday for new episodes or  listen to previous episodes\, just click https://anchor.fm/jazz-matters. \n\n\n\n 
URL:https://yesjazzmatters.org/event/yes-jazz-matters-podcast-2-2022-12-27
END:VEVENT
BEGIN:VEVENT
DTSTART;TZID=UTC:20221220T193000
DTEND;TZID=UTC:20221220T200000
DTSTAMP:20260424T133740
CREATED:20200707T164156Z
LAST-MODIFIED:20200707T164156Z
UID:2586-1671564600-1671566400@yesjazzmatters.org
SUMMARY:Yes Jazz Matters Podcast
DESCRIPTION:Just two Brotha’s\, a renown bassist Edwin Williams and a passionate Jazz cultural enthusiast\, actor and internet radio Air Personality Von Coulter discussing\, the legacy of America’s Original Art form … Jazz. \nThis show was created for those\nwho love jazz or for those who just aren’t sure what jazz is. Enjoy engaging interviews with legendary musicians; discussions on Atlanta’s rich jazz history\, the latest trends in jazz; music reviews; and more. \nListen each Tuesday for new episodes or  listen to previous episodes\, just click https://anchor.fm/jazz-matters. \n\n\n\n 
URL:https://yesjazzmatters.org/event/yes-jazz-matters-podcast-2-2022-12-20
END:VEVENT
BEGIN:VEVENT
DTSTART;TZID=UTC:20221213T193000
DTEND;TZID=UTC:20221213T200000
DTSTAMP:20260424T133740
CREATED:20200707T164156Z
LAST-MODIFIED:20200707T164156Z
UID:2585-1670959800-1670961600@yesjazzmatters.org
SUMMARY:Yes Jazz Matters Podcast
DESCRIPTION:Just two Brotha’s\, a renown bassist Edwin Williams and a passionate Jazz cultural enthusiast\, actor and internet radio Air Personality Von Coulter discussing\, the legacy of America’s Original Art form … Jazz. \nThis show was created for those\nwho love jazz or for those who just aren’t sure what jazz is. Enjoy engaging interviews with legendary musicians; discussions on Atlanta’s rich jazz history\, the latest trends in jazz; music reviews; and more. \nListen each Tuesday for new episodes or  listen to previous episodes\, just click https://anchor.fm/jazz-matters. \n\n\n\n 
URL:https://yesjazzmatters.org/event/yes-jazz-matters-podcast-2-2022-12-13
END:VEVENT
BEGIN:VEVENT
DTSTART;TZID=UTC:20221206T193000
DTEND;TZID=UTC:20221206T200000
DTSTAMP:20260424T133740
CREATED:20200707T164156Z
LAST-MODIFIED:20200707T164156Z
UID:2584-1670355000-1670356800@yesjazzmatters.org
SUMMARY:Yes Jazz Matters Podcast
DESCRIPTION:Just two Brotha’s\, a renown bassist Edwin Williams and a passionate Jazz cultural enthusiast\, actor and internet radio Air Personality Von Coulter discussing\, the legacy of America’s Original Art form … Jazz. \nThis show was created for those\nwho love jazz or for those who just aren’t sure what jazz is. Enjoy engaging interviews with legendary musicians; discussions on Atlanta’s rich jazz history\, the latest trends in jazz; music reviews; and more. \nListen each Tuesday for new episodes or  listen to previous episodes\, just click https://anchor.fm/jazz-matters. \n\n\n\n 
URL:https://yesjazzmatters.org/event/yes-jazz-matters-podcast-2-2022-12-06
END:VEVENT
BEGIN:VEVENT
DTSTART;TZID=UTC:20221129T193000
DTEND;TZID=UTC:20221129T200000
DTSTAMP:20260424T133740
CREATED:20200707T164156Z
LAST-MODIFIED:20200707T164156Z
UID:2583-1669750200-1669752000@yesjazzmatters.org
SUMMARY:Yes Jazz Matters Podcast
DESCRIPTION:Just two Brotha’s\, a renown bassist Edwin Williams and a passionate Jazz cultural enthusiast\, actor and internet radio Air Personality Von Coulter discussing\, the legacy of America’s Original Art form … Jazz. \nThis show was created for those\nwho love jazz or for those who just aren’t sure what jazz is. Enjoy engaging interviews with legendary musicians; discussions on Atlanta’s rich jazz history\, the latest trends in jazz; music reviews; and more. \nListen each Tuesday for new episodes or  listen to previous episodes\, just click https://anchor.fm/jazz-matters. \n\n\n\n 
URL:https://yesjazzmatters.org/event/yes-jazz-matters-podcast-2-2022-11-29
END:VEVENT
BEGIN:VEVENT
DTSTART;TZID=UTC:20221122T193000
DTEND;TZID=UTC:20221122T200000
DTSTAMP:20260424T133740
CREATED:20200707T164156Z
LAST-MODIFIED:20200707T164156Z
UID:2582-1669145400-1669147200@yesjazzmatters.org
SUMMARY:Yes Jazz Matters Podcast
DESCRIPTION:Just two Brotha’s\, a renown bassist Edwin Williams and a passionate Jazz cultural enthusiast\, actor and internet radio Air Personality Von Coulter discussing\, the legacy of America’s Original Art form … Jazz. \nThis show was created for those\nwho love jazz or for those who just aren’t sure what jazz is. Enjoy engaging interviews with legendary musicians; discussions on Atlanta’s rich jazz history\, the latest trends in jazz; music reviews; and more. \nListen each Tuesday for new episodes or  listen to previous episodes\, just click https://anchor.fm/jazz-matters. \n\n\n\n 
URL:https://yesjazzmatters.org/event/yes-jazz-matters-podcast-2-2022-11-22
END:VEVENT
BEGIN:VEVENT
DTSTART;TZID=UTC:20221115T193000
DTEND;TZID=UTC:20221115T200000
DTSTAMP:20260424T133740
CREATED:20200707T164156Z
LAST-MODIFIED:20200707T164156Z
UID:2581-1668540600-1668542400@yesjazzmatters.org
SUMMARY:Yes Jazz Matters Podcast
DESCRIPTION:Just two Brotha’s\, a renown bassist Edwin Williams and a passionate Jazz cultural enthusiast\, actor and internet radio Air Personality Von Coulter discussing\, the legacy of America’s Original Art form … Jazz. \nThis show was created for those\nwho love jazz or for those who just aren’t sure what jazz is. Enjoy engaging interviews with legendary musicians; discussions on Atlanta’s rich jazz history\, the latest trends in jazz; music reviews; and more. \nListen each Tuesday for new episodes or  listen to previous episodes\, just click https://anchor.fm/jazz-matters. \n\n\n\n 
URL:https://yesjazzmatters.org/event/yes-jazz-matters-podcast-2-2022-11-15
END:VEVENT
BEGIN:VEVENT
DTSTART;TZID=UTC:20221108T193000
DTEND;TZID=UTC:20221108T200000
DTSTAMP:20260424T133740
CREATED:20200707T164156Z
LAST-MODIFIED:20200707T164156Z
UID:2580-1667935800-1667937600@yesjazzmatters.org
SUMMARY:Yes Jazz Matters Podcast
DESCRIPTION:Just two Brotha’s\, a renown bassist Edwin Williams and a passionate Jazz cultural enthusiast\, actor and internet radio Air Personality Von Coulter discussing\, the legacy of America’s Original Art form … Jazz. \nThis show was created for those\nwho love jazz or for those who just aren’t sure what jazz is. Enjoy engaging interviews with legendary musicians; discussions on Atlanta’s rich jazz history\, the latest trends in jazz; music reviews; and more. \nListen each Tuesday for new episodes or  listen to previous episodes\, just click https://anchor.fm/jazz-matters. \n\n\n\n 
URL:https://yesjazzmatters.org/event/yes-jazz-matters-podcast-2-2022-11-08
END:VEVENT
BEGIN:VEVENT
DTSTART;TZID=UTC:20221101T193000
DTEND;TZID=UTC:20221101T200000
DTSTAMP:20260424T133740
CREATED:20200707T164156Z
LAST-MODIFIED:20200707T164156Z
UID:2579-1667331000-1667332800@yesjazzmatters.org
SUMMARY:Yes Jazz Matters Podcast
DESCRIPTION:Just two Brotha’s\, a renown bassist Edwin Williams and a passionate Jazz cultural enthusiast\, actor and internet radio Air Personality Von Coulter discussing\, the legacy of America’s Original Art form … Jazz. \nThis show was created for those\nwho love jazz or for those who just aren’t sure what jazz is. Enjoy engaging interviews with legendary musicians; discussions on Atlanta’s rich jazz history\, the latest trends in jazz; music reviews; and more. \nListen each Tuesday for new episodes or  listen to previous episodes\, just click https://anchor.fm/jazz-matters. \n\n\n\n 
URL:https://yesjazzmatters.org/event/yes-jazz-matters-podcast-2-2022-11-01
END:VEVENT
BEGIN:VEVENT
DTSTART;TZID=UTC:20221025T193000
DTEND;TZID=UTC:20221025T200000
DTSTAMP:20260424T133740
CREATED:20200707T164156Z
LAST-MODIFIED:20200707T164156Z
UID:2578-1666726200-1666728000@yesjazzmatters.org
SUMMARY:Yes Jazz Matters Podcast
DESCRIPTION:Just two Brotha’s\, a renown bassist Edwin Williams and a passionate Jazz cultural enthusiast\, actor and internet radio Air Personality Von Coulter discussing\, the legacy of America’s Original Art form … Jazz. \nThis show was created for those\nwho love jazz or for those who just aren’t sure what jazz is. Enjoy engaging interviews with legendary musicians; discussions on Atlanta’s rich jazz history\, the latest trends in jazz; music reviews; and more. \nListen each Tuesday for new episodes or  listen to previous episodes\, just click https://anchor.fm/jazz-matters. \n\n\n\n 
URL:https://yesjazzmatters.org/event/yes-jazz-matters-podcast-2-2022-10-25
END:VEVENT
BEGIN:VEVENT
DTSTART;TZID=UTC:20221018T193000
DTEND;TZID=UTC:20221018T200000
DTSTAMP:20260424T133740
CREATED:20200707T164156Z
LAST-MODIFIED:20200707T164156Z
UID:2577-1666121400-1666123200@yesjazzmatters.org
SUMMARY:Yes Jazz Matters Podcast
DESCRIPTION:Just two Brotha’s\, a renown bassist Edwin Williams and a passionate Jazz cultural enthusiast\, actor and internet radio Air Personality Von Coulter discussing\, the legacy of America’s Original Art form … Jazz. \nThis show was created for those\nwho love jazz or for those who just aren’t sure what jazz is. Enjoy engaging interviews with legendary musicians; discussions on Atlanta’s rich jazz history\, the latest trends in jazz; music reviews; and more. \nListen each Tuesday for new episodes or  listen to previous episodes\, just click https://anchor.fm/jazz-matters. \n\n\n\n 
URL:https://yesjazzmatters.org/event/yes-jazz-matters-podcast-2-2022-10-18
END:VEVENT
BEGIN:VEVENT
DTSTART;TZID=UTC:20221011T193000
DTEND;TZID=UTC:20221011T200000
DTSTAMP:20260424T133740
CREATED:20200707T164156Z
LAST-MODIFIED:20200707T164156Z
UID:2576-1665516600-1665518400@yesjazzmatters.org
SUMMARY:Yes Jazz Matters Podcast
DESCRIPTION:Just two Brotha’s\, a renown bassist Edwin Williams and a passionate Jazz cultural enthusiast\, actor and internet radio Air Personality Von Coulter discussing\, the legacy of America’s Original Art form … Jazz. \nThis show was created for those\nwho love jazz or for those who just aren’t sure what jazz is. Enjoy engaging interviews with legendary musicians; discussions on Atlanta’s rich jazz history\, the latest trends in jazz; music reviews; and more. \nListen each Tuesday for new episodes or  listen to previous episodes\, just click https://anchor.fm/jazz-matters. \n\n\n\n 
URL:https://yesjazzmatters.org/event/yes-jazz-matters-podcast-2-2022-10-11
END:VEVENT
END:VCALENDAR