BEGIN:VCALENDAR
VERSION:2.0
PRODID:-//Jazz Matters - ECPv6.15.20//NONSGML v1.0//EN
CALSCALE:GREGORIAN
METHOD:PUBLISH
X-ORIGINAL-URL:https://yesjazzmatters.org
X-WR-CALDESC:Events for Jazz Matters
REFRESH-INTERVAL;VALUE=DURATION:PT1H
X-Robots-Tag:noindex
X-PUBLISHED-TTL:PT1H
BEGIN:VTIMEZONE
TZID:UTC
BEGIN:STANDARD
TZOFFSETFROM:+0000
TZOFFSETTO:+0000
TZNAME:UTC
DTSTART:20220101T000000
END:STANDARD
END:VTIMEZONE
BEGIN:VEVENT
DTSTART;TZID=UTC:20230919T193000
DTEND;TZID=UTC:20230919T200000
DTSTAMP:20260424T075524
CREATED:20200707T164156Z
LAST-MODIFIED:20200707T164156Z
UID:2625-1695151800-1695153600@yesjazzmatters.org
SUMMARY:Yes Jazz Matters Podcast
DESCRIPTION:Just two Brotha’s\, a renown bassist Edwin Williams and a passionate Jazz cultural enthusiast\, actor and internet radio Air Personality Von Coulter discussing\, the legacy of America’s Original Art form … Jazz. \nThis show was created for those\nwho love jazz or for those who just aren’t sure what jazz is. Enjoy engaging interviews with legendary musicians; discussions on Atlanta’s rich jazz history\, the latest trends in jazz; music reviews; and more. \nListen each Tuesday for new episodes or  listen to previous episodes\, just click https://anchor.fm/jazz-matters. \n\n\n\n 
URL:https://yesjazzmatters.org/event/yes-jazz-matters-podcast-2-2023-09-19
END:VEVENT
BEGIN:VEVENT
DTSTART;TZID=UTC:20230912T193000
DTEND;TZID=UTC:20230912T200000
DTSTAMP:20260424T075524
CREATED:20200707T164156Z
LAST-MODIFIED:20200707T164156Z
UID:2624-1694547000-1694548800@yesjazzmatters.org
SUMMARY:Yes Jazz Matters Podcast
DESCRIPTION:Just two Brotha’s\, a renown bassist Edwin Williams and a passionate Jazz cultural enthusiast\, actor and internet radio Air Personality Von Coulter discussing\, the legacy of America’s Original Art form … Jazz. \nThis show was created for those\nwho love jazz or for those who just aren’t sure what jazz is. Enjoy engaging interviews with legendary musicians; discussions on Atlanta’s rich jazz history\, the latest trends in jazz; music reviews; and more. \nListen each Tuesday for new episodes or  listen to previous episodes\, just click https://anchor.fm/jazz-matters. \n\n\n\n 
URL:https://yesjazzmatters.org/event/yes-jazz-matters-podcast-2-2023-09-12
END:VEVENT
BEGIN:VEVENT
DTSTART;TZID=UTC:20230905T193000
DTEND;TZID=UTC:20230905T200000
DTSTAMP:20260424T075524
CREATED:20200707T164156Z
LAST-MODIFIED:20200707T164156Z
UID:2623-1693942200-1693944000@yesjazzmatters.org
SUMMARY:Yes Jazz Matters Podcast
DESCRIPTION:Just two Brotha’s\, a renown bassist Edwin Williams and a passionate Jazz cultural enthusiast\, actor and internet radio Air Personality Von Coulter discussing\, the legacy of America’s Original Art form … Jazz. \nThis show was created for those\nwho love jazz or for those who just aren’t sure what jazz is. Enjoy engaging interviews with legendary musicians; discussions on Atlanta’s rich jazz history\, the latest trends in jazz; music reviews; and more. \nListen each Tuesday for new episodes or  listen to previous episodes\, just click https://anchor.fm/jazz-matters. \n\n\n\n 
URL:https://yesjazzmatters.org/event/yes-jazz-matters-podcast-2-2023-09-05
END:VEVENT
BEGIN:VEVENT
DTSTART;TZID=UTC:20230829T193000
DTEND;TZID=UTC:20230829T200000
DTSTAMP:20260424T075524
CREATED:20200707T164156Z
LAST-MODIFIED:20200707T164156Z
UID:2622-1693337400-1693339200@yesjazzmatters.org
SUMMARY:Yes Jazz Matters Podcast
DESCRIPTION:Just two Brotha’s\, a renown bassist Edwin Williams and a passionate Jazz cultural enthusiast\, actor and internet radio Air Personality Von Coulter discussing\, the legacy of America’s Original Art form … Jazz. \nThis show was created for those\nwho love jazz or for those who just aren’t sure what jazz is. Enjoy engaging interviews with legendary musicians; discussions on Atlanta’s rich jazz history\, the latest trends in jazz; music reviews; and more. \nListen each Tuesday for new episodes or  listen to previous episodes\, just click https://anchor.fm/jazz-matters. \n\n\n\n 
URL:https://yesjazzmatters.org/event/yes-jazz-matters-podcast-2-2023-08-29
END:VEVENT
BEGIN:VEVENT
DTSTART;TZID=UTC:20230822T193000
DTEND;TZID=UTC:20230822T200000
DTSTAMP:20260424T075524
CREATED:20200707T164156Z
LAST-MODIFIED:20200707T164156Z
UID:2621-1692732600-1692734400@yesjazzmatters.org
SUMMARY:Yes Jazz Matters Podcast
DESCRIPTION:Just two Brotha’s\, a renown bassist Edwin Williams and a passionate Jazz cultural enthusiast\, actor and internet radio Air Personality Von Coulter discussing\, the legacy of America’s Original Art form … Jazz. \nThis show was created for those\nwho love jazz or for those who just aren’t sure what jazz is. Enjoy engaging interviews with legendary musicians; discussions on Atlanta’s rich jazz history\, the latest trends in jazz; music reviews; and more. \nListen each Tuesday for new episodes or  listen to previous episodes\, just click https://anchor.fm/jazz-matters. \n\n\n\n 
URL:https://yesjazzmatters.org/event/yes-jazz-matters-podcast-2-2023-08-22
END:VEVENT
BEGIN:VEVENT
DTSTART;TZID=UTC:20230815T193000
DTEND;TZID=UTC:20230815T200000
DTSTAMP:20260424T075524
CREATED:20200707T164156Z
LAST-MODIFIED:20200707T164156Z
UID:2620-1692127800-1692129600@yesjazzmatters.org
SUMMARY:Yes Jazz Matters Podcast
DESCRIPTION:Just two Brotha’s\, a renown bassist Edwin Williams and a passionate Jazz cultural enthusiast\, actor and internet radio Air Personality Von Coulter discussing\, the legacy of America’s Original Art form … Jazz. \nThis show was created for those\nwho love jazz or for those who just aren’t sure what jazz is. Enjoy engaging interviews with legendary musicians; discussions on Atlanta’s rich jazz history\, the latest trends in jazz; music reviews; and more. \nListen each Tuesday for new episodes or  listen to previous episodes\, just click https://anchor.fm/jazz-matters. \n\n\n\n 
URL:https://yesjazzmatters.org/event/yes-jazz-matters-podcast-2-2023-08-15
END:VEVENT
BEGIN:VEVENT
DTSTART;TZID=UTC:20230808T193000
DTEND;TZID=UTC:20230808T200000
DTSTAMP:20260424T075524
CREATED:20200707T164156Z
LAST-MODIFIED:20200707T164156Z
UID:2619-1691523000-1691524800@yesjazzmatters.org
SUMMARY:Yes Jazz Matters Podcast
DESCRIPTION:Just two Brotha’s\, a renown bassist Edwin Williams and a passionate Jazz cultural enthusiast\, actor and internet radio Air Personality Von Coulter discussing\, the legacy of America’s Original Art form … Jazz. \nThis show was created for those\nwho love jazz or for those who just aren’t sure what jazz is. Enjoy engaging interviews with legendary musicians; discussions on Atlanta’s rich jazz history\, the latest trends in jazz; music reviews; and more. \nListen each Tuesday for new episodes or  listen to previous episodes\, just click https://anchor.fm/jazz-matters. \n\n\n\n 
URL:https://yesjazzmatters.org/event/yes-jazz-matters-podcast-2-2023-08-08
END:VEVENT
BEGIN:VEVENT
DTSTART;TZID=UTC:20230804T053000
DTEND;TZID=UTC:20230804T213000
DTSTAMP:20260424T075524
CREATED:20230323T042920Z
LAST-MODIFIED:20230323T042920Z
UID:3223-1691127000-1691184600@yesjazzmatters.org
SUMMARY:Suwanee\, GA Food Truck Friday
DESCRIPTION:2023 Food Truck Fridays \nStage entertainment will be provided by Jazz Matters\, a non-profit organization that celebrates and promotes the art of jazz by highlighting the diversity and cultural roots of jazz music\, and musical genres influenced by it. \nGreat food and free concert from 5:30 pm to 9:30 pm! The music starts at 7 pm. \nJune 2\nJuly 7\nAugust 4
URL:https://yesjazzmatters.org/event/suwanee-ga-food-truck-friday-2023-08-04
LOCATION:Food Truck Fridays\, 330 Towne Center Avenue\, Suwanee\, GA\, 30024
CATEGORIES:Blues,concerts,Contemporary Jazz,Food Truck,Jazz,Live Music,Smooth Jazz
END:VEVENT
BEGIN:VEVENT
DTSTART;TZID=UTC:20230801T193000
DTEND;TZID=UTC:20230801T200000
DTSTAMP:20260424T075524
CREATED:20200707T164156Z
LAST-MODIFIED:20200707T164156Z
UID:2618-1690918200-1690920000@yesjazzmatters.org
SUMMARY:Yes Jazz Matters Podcast
DESCRIPTION:Just two Brotha’s\, a renown bassist Edwin Williams and a passionate Jazz cultural enthusiast\, actor and internet radio Air Personality Von Coulter discussing\, the legacy of America’s Original Art form … Jazz. \nThis show was created for those\nwho love jazz or for those who just aren’t sure what jazz is. Enjoy engaging interviews with legendary musicians; discussions on Atlanta’s rich jazz history\, the latest trends in jazz; music reviews; and more. \nListen each Tuesday for new episodes or  listen to previous episodes\, just click https://anchor.fm/jazz-matters. \n\n\n\n 
URL:https://yesjazzmatters.org/event/yes-jazz-matters-podcast-2-2023-08-01
END:VEVENT
BEGIN:VEVENT
DTSTART;TZID=UTC:20230730T173000
DTEND;TZID=UTC:20230730T180000
DTSTAMP:20260424T075524
CREATED:20230605T012242Z
LAST-MODIFIED:20230605T012242Z
UID:3293-1690738200-1690740000@yesjazzmatters.org
SUMMARY:Academy Theatre's Sunday Variety Series
DESCRIPTION:Join EDWIN WILLIAMS and a couple of his friends for an evening of great music\, jazz trivia and more …
URL:https://yesjazzmatters.org/event/academy-theatres-sunday-variety-series
LOCATION:The Academy Theatre\, 599 N. Central Ave.\, Hapeville\, GA\, 303554
END:VEVENT
BEGIN:VEVENT
DTSTART;TZID=UTC:20230725T193000
DTEND;TZID=UTC:20230725T200000
DTSTAMP:20260424T075524
CREATED:20200707T164156Z
LAST-MODIFIED:20200707T164156Z
UID:2617-1690313400-1690315200@yesjazzmatters.org
SUMMARY:Yes Jazz Matters Podcast
DESCRIPTION:Just two Brotha’s\, a renown bassist Edwin Williams and a passionate Jazz cultural enthusiast\, actor and internet radio Air Personality Von Coulter discussing\, the legacy of America’s Original Art form … Jazz. \nThis show was created for those\nwho love jazz or for those who just aren’t sure what jazz is. Enjoy engaging interviews with legendary musicians; discussions on Atlanta’s rich jazz history\, the latest trends in jazz; music reviews; and more. \nListen each Tuesday for new episodes or  listen to previous episodes\, just click https://anchor.fm/jazz-matters. \n\n\n\n 
URL:https://yesjazzmatters.org/event/yes-jazz-matters-podcast-2-2023-07-25
END:VEVENT
BEGIN:VEVENT
DTSTART;TZID=UTC:20230718T193000
DTEND;TZID=UTC:20230718T200000
DTSTAMP:20260424T075524
CREATED:20200707T164156Z
LAST-MODIFIED:20200707T164156Z
UID:2616-1689708600-1689710400@yesjazzmatters.org
SUMMARY:Yes Jazz Matters Podcast
DESCRIPTION:Just two Brotha’s\, a renown bassist Edwin Williams and a passionate Jazz cultural enthusiast\, actor and internet radio Air Personality Von Coulter discussing\, the legacy of America’s Original Art form … Jazz. \nThis show was created for those\nwho love jazz or for those who just aren’t sure what jazz is. Enjoy engaging interviews with legendary musicians; discussions on Atlanta’s rich jazz history\, the latest trends in jazz; music reviews; and more. \nListen each Tuesday for new episodes or  listen to previous episodes\, just click https://anchor.fm/jazz-matters. \n\n\n\n 
URL:https://yesjazzmatters.org/event/yes-jazz-matters-podcast-2-2023-07-18
END:VEVENT
BEGIN:VEVENT
DTSTART;TZID=UTC:20230711T193000
DTEND;TZID=UTC:20230711T200000
DTSTAMP:20260424T075524
CREATED:20200707T164156Z
LAST-MODIFIED:20200707T164156Z
UID:2615-1689103800-1689105600@yesjazzmatters.org
SUMMARY:Yes Jazz Matters Podcast
DESCRIPTION:Just two Brotha’s\, a renown bassist Edwin Williams and a passionate Jazz cultural enthusiast\, actor and internet radio Air Personality Von Coulter discussing\, the legacy of America’s Original Art form … Jazz. \nThis show was created for those\nwho love jazz or for those who just aren’t sure what jazz is. Enjoy engaging interviews with legendary musicians; discussions on Atlanta’s rich jazz history\, the latest trends in jazz; music reviews; and more. \nListen each Tuesday for new episodes or  listen to previous episodes\, just click https://anchor.fm/jazz-matters. \n\n\n\n 
URL:https://yesjazzmatters.org/event/yes-jazz-matters-podcast-2-2023-07-11
END:VEVENT
BEGIN:VEVENT
DTSTART;TZID=UTC:20230707T053000
DTEND;TZID=UTC:20230707T213000
DTSTAMP:20260424T075524
CREATED:20230323T042920Z
LAST-MODIFIED:20230323T042920Z
UID:3222-1688707800-1688765400@yesjazzmatters.org
SUMMARY:Suwanee\, GA Food Truck Friday
DESCRIPTION:2023 Food Truck Fridays \nStage entertainment will be provided by Jazz Matters\, a non-profit organization that celebrates and promotes the art of jazz by highlighting the diversity and cultural roots of jazz music\, and musical genres influenced by it. \nGreat food and free concert from 5:30 pm to 9:30 pm! The music starts at 7 pm. \nJune 2\nJuly 7\nAugust 4
URL:https://yesjazzmatters.org/event/suwanee-ga-food-truck-friday-2023-07-07
LOCATION:Food Truck Fridays\, 330 Towne Center Avenue\, Suwanee\, GA\, 30024
CATEGORIES:Blues,concerts,Contemporary Jazz,Food Truck,Jazz,Live Music,Smooth Jazz
END:VEVENT
BEGIN:VEVENT
DTSTART;TZID=UTC:20230704T193000
DTEND;TZID=UTC:20230704T200000
DTSTAMP:20260424T075524
CREATED:20200707T164156Z
LAST-MODIFIED:20200707T164156Z
UID:2614-1688499000-1688500800@yesjazzmatters.org
SUMMARY:Yes Jazz Matters Podcast
DESCRIPTION:Just two Brotha’s\, a renown bassist Edwin Williams and a passionate Jazz cultural enthusiast\, actor and internet radio Air Personality Von Coulter discussing\, the legacy of America’s Original Art form … Jazz. \nThis show was created for those\nwho love jazz or for those who just aren’t sure what jazz is. Enjoy engaging interviews with legendary musicians; discussions on Atlanta’s rich jazz history\, the latest trends in jazz; music reviews; and more. \nListen each Tuesday for new episodes or  listen to previous episodes\, just click https://anchor.fm/jazz-matters. \n\n\n\n 
URL:https://yesjazzmatters.org/event/yes-jazz-matters-podcast-2-2023-07-04
END:VEVENT
BEGIN:VEVENT
DTSTART;TZID=UTC:20230627T193000
DTEND;TZID=UTC:20230627T200000
DTSTAMP:20260424T075524
CREATED:20200707T164156Z
LAST-MODIFIED:20200707T164156Z
UID:2613-1687894200-1687896000@yesjazzmatters.org
SUMMARY:Yes Jazz Matters Podcast
DESCRIPTION:Just two Brotha’s\, a renown bassist Edwin Williams and a passionate Jazz cultural enthusiast\, actor and internet radio Air Personality Von Coulter discussing\, the legacy of America’s Original Art form … Jazz. \nThis show was created for those\nwho love jazz or for those who just aren’t sure what jazz is. Enjoy engaging interviews with legendary musicians; discussions on Atlanta’s rich jazz history\, the latest trends in jazz; music reviews; and more. \nListen each Tuesday for new episodes or  listen to previous episodes\, just click https://anchor.fm/jazz-matters. \n\n\n\n 
URL:https://yesjazzmatters.org/event/yes-jazz-matters-podcast-2-2023-06-27
END:VEVENT
BEGIN:VEVENT
DTSTART;TZID=UTC:20230623T190000
DTEND;TZID=UTC:20230623T230000
DTSTAMP:20260424T075524
CREATED:20230605T005348Z
LAST-MODIFIED:20230605T005400Z
UID:3280-1687546800-1687561200@yesjazzmatters.org
SUMMARY:Chandra Currelley Remembers Phyllis Hyman
DESCRIPTION:Actor/Singer Chandra Currelley is a smooth\, cool\, sultry\, chocolate powerhouse. She is currently a regular on BET+ Dramedy “Bruh.” You also probably recognize Chandra as Ms. V. in Tyler Perry’s “FOR BETTER OR WORSE” and in the #1 box office movie\, “DIARY OF A MAD BLACK WOMAN ” playing herself in the nightclub Chandra’s. Chandra is the former lead singer of The legendary recording group The S.O.S. Band\, replacing the original lead singer. On this evening\, Chandra “Remembers Phyllis Hyman.” \nThis program is supported in part by the City of Atlanta Mayor’s Office of Cultural Affairs.”
URL:https://yesjazzmatters.org/event/chandra-currelley-remembers-phyllis-hyman
LOCATION:Atlantucky Brewing\, 170 Northside Drive\, Atlanta\, GA\, 30313
ORGANIZER;CN="Jazz Matters Inc.":MAILTO:yesjazzmatters@gmail.com
END:VEVENT
BEGIN:VEVENT
DTSTART;TZID=UTC:20230621T120000
DTEND;TZID=UTC:20230621T130000
DTSTAMP:20260424T075524
CREATED:20230605T010812Z
LAST-MODIFIED:20230605T011842Z
UID:3286-1687348800-1687352400@yesjazzmatters.org
SUMMARY:Jazz Matters @ The Metro
DESCRIPTION:Jazz Matters Inc. presents THE EDWIN WILLIAMS EXPERIENCE\, Wednesday\, June 21st @ 12 noon. Join us for a wonderful afternoon of great music\, and lots of fun at the Fulton Metropolitan Branch Library. Bring a friend\, tell a friend! \nFREE – OPEN TO THE PUBLIC \nThis program is supported in part by the City of Atlanta Mayor’s Office of Cultural Affairs” and Jazz Matters Inc.
URL:https://yesjazzmatters.org/event/jazz-matters-the-metro
LOCATION:Fulton County Metropolitan Branch Library\, 1332 Metropolitan Avenue\, Atlanta\, GA\, 30310
END:VEVENT
BEGIN:VEVENT
DTSTART;TZID=UTC:20230620T193000
DTEND;TZID=UTC:20230620T200000
DTSTAMP:20260424T075524
CREATED:20200707T164156Z
LAST-MODIFIED:20200707T164156Z
UID:2612-1687289400-1687291200@yesjazzmatters.org
SUMMARY:Yes Jazz Matters Podcast
DESCRIPTION:Just two Brotha’s\, a renown bassist Edwin Williams and a passionate Jazz cultural enthusiast\, actor and internet radio Air Personality Von Coulter discussing\, the legacy of America’s Original Art form … Jazz. \nThis show was created for those\nwho love jazz or for those who just aren’t sure what jazz is. Enjoy engaging interviews with legendary musicians; discussions on Atlanta’s rich jazz history\, the latest trends in jazz; music reviews; and more. \nListen each Tuesday for new episodes or  listen to previous episodes\, just click https://anchor.fm/jazz-matters. \n\n\n\n 
URL:https://yesjazzmatters.org/event/yes-jazz-matters-podcast-2-2023-06-20
END:VEVENT
BEGIN:VEVENT
DTSTART;TZID=UTC:20230616T170000
DTEND;TZID=UTC:20230616T183000
DTSTAMP:20260424T075524
CREATED:20230605T010338Z
LAST-MODIFIED:20230605T010338Z
UID:3283-1686934800-1686940200@yesjazzmatters.org
SUMMARY:Juneteenth Celebration
DESCRIPTION:Juneteenth Celebration at Centennial Olympic Park featuring The Edwin Williams Experience. \nPerformance Sponsored by:
URL:https://yesjazzmatters.org/event/juneteenth-celebration
LOCATION:Centennial Olympic Park\, 265 Park W-NW\, GA\, 30313
ORGANIZER;CN="Jazz Matters Inc.":MAILTO:yesjazzmatters@gmail.com
END:VEVENT
BEGIN:VEVENT
DTSTART;TZID=UTC:20230613T193000
DTEND;TZID=UTC:20230613T200000
DTSTAMP:20260424T075524
CREATED:20200707T164156Z
LAST-MODIFIED:20200707T164156Z
UID:2611-1686684600-1686686400@yesjazzmatters.org
SUMMARY:Yes Jazz Matters Podcast
DESCRIPTION:Just two Brotha’s\, a renown bassist Edwin Williams and a passionate Jazz cultural enthusiast\, actor and internet radio Air Personality Von Coulter discussing\, the legacy of America’s Original Art form … Jazz. \nThis show was created for those\nwho love jazz or for those who just aren’t sure what jazz is. Enjoy engaging interviews with legendary musicians; discussions on Atlanta’s rich jazz history\, the latest trends in jazz; music reviews; and more. \nListen each Tuesday for new episodes or  listen to previous episodes\, just click https://anchor.fm/jazz-matters. \n\n\n\n 
URL:https://yesjazzmatters.org/event/yes-jazz-matters-podcast-2-2023-06-13
END:VEVENT
BEGIN:VEVENT
DTSTART;TZID=UTC:20230606T193000
DTEND;TZID=UTC:20230606T200000
DTSTAMP:20260424T075524
CREATED:20200707T164156Z
LAST-MODIFIED:20200707T164156Z
UID:2610-1686079800-1686081600@yesjazzmatters.org
SUMMARY:Yes Jazz Matters Podcast
DESCRIPTION:Just two Brotha’s\, a renown bassist Edwin Williams and a passionate Jazz cultural enthusiast\, actor and internet radio Air Personality Von Coulter discussing\, the legacy of America’s Original Art form … Jazz. \nThis show was created for those\nwho love jazz or for those who just aren’t sure what jazz is. Enjoy engaging interviews with legendary musicians; discussions on Atlanta’s rich jazz history\, the latest trends in jazz; music reviews; and more. \nListen each Tuesday for new episodes or  listen to previous episodes\, just click https://anchor.fm/jazz-matters. \n\n\n\n 
URL:https://yesjazzmatters.org/event/yes-jazz-matters-podcast-2-2023-06-06
END:VEVENT
BEGIN:VEVENT
DTSTART;TZID=UTC:20230602T170000
DTEND;TZID=UTC:20230602T213000
DTSTAMP:20260424T075524
CREATED:20230605T013142Z
LAST-MODIFIED:20230605T013142Z
UID:3296-1685725200-1685741400@yesjazzmatters.org
SUMMARY:The City of Suwanee Food Truck Fridays
DESCRIPTION:https://yesjazzmatters.org/wp-content/uploads/2023/06/Copy-of-Rev-Food-Truck-Fridays-3.mp4
URL:https://yesjazzmatters.org/event/the-city-of-suwanee-food-truck-fridays
LOCATION:The City of Suwanee\, 330 Town Center Ave\, Suwanee\, GA\, 30024
END:VEVENT
BEGIN:VEVENT
DTSTART;TZID=UTC:20230530T193000
DTEND;TZID=UTC:20230530T200000
DTSTAMP:20260424T075524
CREATED:20200707T164156Z
LAST-MODIFIED:20200707T164156Z
UID:2609-1685475000-1685476800@yesjazzmatters.org
SUMMARY:Yes Jazz Matters Podcast
DESCRIPTION:Just two Brotha’s\, a renown bassist Edwin Williams and a passionate Jazz cultural enthusiast\, actor and internet radio Air Personality Von Coulter discussing\, the legacy of America’s Original Art form … Jazz. \nThis show was created for those\nwho love jazz or for those who just aren’t sure what jazz is. Enjoy engaging interviews with legendary musicians; discussions on Atlanta’s rich jazz history\, the latest trends in jazz; music reviews; and more. \nListen each Tuesday for new episodes or  listen to previous episodes\, just click https://anchor.fm/jazz-matters. \n\n\n\n 
URL:https://yesjazzmatters.org/event/yes-jazz-matters-podcast-2-2023-05-30
END:VEVENT
BEGIN:VEVENT
DTSTART;TZID=UTC:20230523T193000
DTEND;TZID=UTC:20230523T200000
DTSTAMP:20260424T075524
CREATED:20200707T164156Z
LAST-MODIFIED:20200707T164156Z
UID:2608-1684870200-1684872000@yesjazzmatters.org
SUMMARY:Yes Jazz Matters Podcast
DESCRIPTION:Just two Brotha’s\, a renown bassist Edwin Williams and a passionate Jazz cultural enthusiast\, actor and internet radio Air Personality Von Coulter discussing\, the legacy of America’s Original Art form … Jazz. \nThis show was created for those\nwho love jazz or for those who just aren’t sure what jazz is. Enjoy engaging interviews with legendary musicians; discussions on Atlanta’s rich jazz history\, the latest trends in jazz; music reviews; and more. \nListen each Tuesday for new episodes or  listen to previous episodes\, just click https://anchor.fm/jazz-matters. \n\n\n\n 
URL:https://yesjazzmatters.org/event/yes-jazz-matters-podcast-2-2023-05-23
END:VEVENT
BEGIN:VEVENT
DTSTART;TZID=UTC:20230516T193000
DTEND;TZID=UTC:20230516T200000
DTSTAMP:20260424T075524
CREATED:20200707T164156Z
LAST-MODIFIED:20200707T164156Z
UID:2607-1684265400-1684267200@yesjazzmatters.org
SUMMARY:Yes Jazz Matters Podcast
DESCRIPTION:Just two Brotha’s\, a renown bassist Edwin Williams and a passionate Jazz cultural enthusiast\, actor and internet radio Air Personality Von Coulter discussing\, the legacy of America’s Original Art form … Jazz. \nThis show was created for those\nwho love jazz or for those who just aren’t sure what jazz is. Enjoy engaging interviews with legendary musicians; discussions on Atlanta’s rich jazz history\, the latest trends in jazz; music reviews; and more. \nListen each Tuesday for new episodes or  listen to previous episodes\, just click https://anchor.fm/jazz-matters. \n\n\n\n 
URL:https://yesjazzmatters.org/event/yes-jazz-matters-podcast-2-2023-05-16
END:VEVENT
BEGIN:VEVENT
DTSTART;TZID=UTC:20230509T193000
DTEND;TZID=UTC:20230509T200000
DTSTAMP:20260424T075524
CREATED:20200707T164156Z
LAST-MODIFIED:20200707T164156Z
UID:2606-1683660600-1683662400@yesjazzmatters.org
SUMMARY:Yes Jazz Matters Podcast
DESCRIPTION:Just two Brotha’s\, a renown bassist Edwin Williams and a passionate Jazz cultural enthusiast\, actor and internet radio Air Personality Von Coulter discussing\, the legacy of America’s Original Art form … Jazz. \nThis show was created for those\nwho love jazz or for those who just aren’t sure what jazz is. Enjoy engaging interviews with legendary musicians; discussions on Atlanta’s rich jazz history\, the latest trends in jazz; music reviews; and more. \nListen each Tuesday for new episodes or  listen to previous episodes\, just click https://anchor.fm/jazz-matters. \n\n\n\n 
URL:https://yesjazzmatters.org/event/yes-jazz-matters-podcast-2-2023-05-09
END:VEVENT
BEGIN:VEVENT
DTSTART;TZID=UTC:20230502T193000
DTEND;TZID=UTC:20230502T200000
DTSTAMP:20260424T075524
CREATED:20200707T164156Z
LAST-MODIFIED:20200707T164156Z
UID:2605-1683055800-1683057600@yesjazzmatters.org
SUMMARY:Yes Jazz Matters Podcast
DESCRIPTION:Just two Brotha’s\, a renown bassist Edwin Williams and a passionate Jazz cultural enthusiast\, actor and internet radio Air Personality Von Coulter discussing\, the legacy of America’s Original Art form … Jazz. \nThis show was created for those\nwho love jazz or for those who just aren’t sure what jazz is. Enjoy engaging interviews with legendary musicians; discussions on Atlanta’s rich jazz history\, the latest trends in jazz; music reviews; and more. \nListen each Tuesday for new episodes or  listen to previous episodes\, just click https://anchor.fm/jazz-matters. \n\n\n\n 
URL:https://yesjazzmatters.org/event/yes-jazz-matters-podcast-2-2023-05-02
END:VEVENT
BEGIN:VEVENT
DTSTART;TZID=UTC:20230425T193000
DTEND;TZID=UTC:20230425T200000
DTSTAMP:20260424T075524
CREATED:20200707T164156Z
LAST-MODIFIED:20200707T164156Z
UID:2604-1682451000-1682452800@yesjazzmatters.org
SUMMARY:Yes Jazz Matters Podcast
DESCRIPTION:Just two Brotha’s\, a renown bassist Edwin Williams and a passionate Jazz cultural enthusiast\, actor and internet radio Air Personality Von Coulter discussing\, the legacy of America’s Original Art form … Jazz. \nThis show was created for those\nwho love jazz or for those who just aren’t sure what jazz is. Enjoy engaging interviews with legendary musicians; discussions on Atlanta’s rich jazz history\, the latest trends in jazz; music reviews; and more. \nListen each Tuesday for new episodes or  listen to previous episodes\, just click https://anchor.fm/jazz-matters. \n\n\n\n 
URL:https://yesjazzmatters.org/event/yes-jazz-matters-podcast-2-2023-04-25
END:VEVENT
BEGIN:VEVENT
DTSTART;TZID=UTC:20230419T120000
DTEND;TZID=UTC:20230419T130000
DTSTAMP:20260424T075524
CREATED:20230323T041816Z
LAST-MODIFIED:20230323T041816Z
UID:3209-1681905600-1681909200@yesjazzmatters.org
SUMMARY:April Jazz Appreciation Month Performance
DESCRIPTION:
URL:https://yesjazzmatters.org/event/april-jazz-appreciation-month-performance
LOCATION:Fulton County Central Library\, One Margret Mitche Square\, Atlanta\, GA\, 30303
ORGANIZER;CN="Jazz Matters Inc.":MAILTO:yesjazzmatters@gmail.com
END:VEVENT
END:VCALENDAR