BEGIN:VCALENDAR
VERSION:2.0
PRODID:-//Jazz Matters - ECPv6.15.20//NONSGML v1.0//EN
CALSCALE:GREGORIAN
METHOD:PUBLISH
X-ORIGINAL-URL:https://yesjazzmatters.org
X-WR-CALDESC:Events for Jazz Matters
REFRESH-INTERVAL;VALUE=DURATION:PT1H
X-Robots-Tag:noindex
X-PUBLISHED-TTL:PT1H
BEGIN:VTIMEZONE
TZID:UTC
BEGIN:STANDARD
TZOFFSETFROM:+0000
TZOFFSETTO:+0000
TZNAME:UTC
DTSTART:20200101T000000
END:STANDARD
END:VTIMEZONE
BEGIN:VEVENT
DTSTART;TZID=UTC:20230707T053000
DTEND;TZID=UTC:20230707T213000
DTSTAMP:20260423T203755
CREATED:20230323T042920Z
LAST-MODIFIED:20230323T042920Z
UID:3222-1688707800-1688765400@yesjazzmatters.org
SUMMARY:Suwanee\, GA Food Truck Friday
DESCRIPTION:2023 Food Truck Fridays \nStage entertainment will be provided by Jazz Matters\, a non-profit organization that celebrates and promotes the art of jazz by highlighting the diversity and cultural roots of jazz music\, and musical genres influenced by it. \nGreat food and free concert from 5:30 pm to 9:30 pm! The music starts at 7 pm. \nJune 2\nJuly 7\nAugust 4
URL:https://yesjazzmatters.org/event/suwanee-ga-food-truck-friday-2023-07-07
LOCATION:Food Truck Fridays\, 330 Towne Center Avenue\, Suwanee\, GA\, 30024
CATEGORIES:Blues,concerts,Contemporary Jazz,Food Truck,Jazz,Live Music,Smooth Jazz
END:VEVENT
BEGIN:VEVENT
DTSTART;TZID=UTC:20220213T160000
DTEND;TZID=UTC:20220213T180000
DTSTAMP:20260423T203755
CREATED:20220210T084221Z
LAST-MODIFIED:20220210T084954Z
UID:2269-1644768000-1644775200@yesjazzmatters.org
SUMMARY:Sunday Live!  A Jazz Experience
DESCRIPTION:
URL:https://yesjazzmatters.org/event/sunday-live-a-jazz-experience-5
LOCATION:West End Performing Arts Center\, 945 Ralph D. Abernathy Blvd.\, Atlanta\, GA\, 30310\, United States
CATEGORIES:Jazz,Live Music
ORGANIZER;CN="Jazz Matters Inc.":MAILTO:yesjazzmatters@gmail.com
END:VEVENT
BEGIN:VEVENT
DTSTART;TZID=UTC:20210820T200000
DTEND;TZID=UTC:20210820T230000
DTSTAMP:20260423T203755
CREATED:20210624T151746Z
LAST-MODIFIED:20210627T133610Z
UID:2011-1629489600-1629500400@yesjazzmatters.org
SUMMARY:6th Annual Jazz Matters At The Wren's Nest
DESCRIPTION:Mix in a whole lotta Jazz\, a dash of Soul\, a little pinch of R&B … now that’s a recipe for an evening of fun with featured artist keyboardist/producer and host of Midtown Atlanta Jam Session Al Smith; along with experiencing the amazing harmonies of KalligraFé\, with a special tribute to The Emotions; and The Edwin Williams Experience. \n \nAl Smith is an accomplished keyboardist and studio producer. Al thrills with a musical mastery of rhythm\, melody and sound featuring lush piano and string renditions to funky bass and drums. His virtuosity transcends his jazz beginnings to an eclectic ensemble of styles and genres. A metro Atlanta resident\, Al is also creator and producer of the wildly popular Midtown Atlanta Jam Session\, an artist showcase\, that provides a platform for local vocalists and musicians to display their talents. \n  \n  \n  \nKalligraFē is a musical group comprised of members\, LaToya (Toyé) Forman\, Bianca Tate\, and Nicole Pringle.  Admired for their signature sound\, this multifaceted collective consists of actresses\, songwriters\, directors and producers.  KalligraFē loves and believes there is healing in the arts; and they use their gifts to do just that. \n  \n  \n \nEdwin Williams is the founder of Jazz Matters Inc.\, a 501(c)(3) non-profit organization that promotes the Art of Jazz.   His film credits include Coming2America (2021) as a member of The Sexual Chocolate Band.  No stranger to the Atlanta music scene\, he was the featured bassist for over twenty years with the John Robertson Trio at the world renowned\, Dante’s Down the Hatch jazz club in Atlanta\, Georgia. Edwin has performed nationally and internationally with major jazz and R&B artists and with The Atlanta Symphony Orchestra’s in its annual “Soulful Christmas” production \n 
URL:https://yesjazzmatters.org/event/6th-annual-jazz-matters-at-the-wrens-nest
LOCATION:The Wren’s Nest\, 1050 Ralph David Abernathy Blvd\, Atlanta\, GA\, 30310\, United States
CATEGORIES:Blues,Contemporary Jazz,Jazz,Live Music,Smooth Jazz
ORGANIZER;CN="Jazz Matters Inc.":MAILTO:yesjazzmatters@gmail.com
END:VEVENT
END:VCALENDAR