BEGIN:VCALENDAR
VERSION:2.0
PRODID:-//Jazz Matters - ECPv6.15.20//NONSGML v1.0//EN
CALSCALE:GREGORIAN
METHOD:PUBLISH
X-ORIGINAL-URL:https://yesjazzmatters.org
X-WR-CALDESC:Events for Jazz Matters
REFRESH-INTERVAL;VALUE=DURATION:PT1H
X-Robots-Tag:noindex
X-PUBLISHED-TTL:PT1H
BEGIN:VTIMEZONE
TZID:UTC
BEGIN:STANDARD
TZOFFSETFROM:+0000
TZOFFSETTO:+0000
TZNAME:UTC
DTSTART:20180101T000000
END:STANDARD
END:VTIMEZONE
BEGIN:VEVENT
DTSTART;TZID=UTC:20210820T200000
DTEND;TZID=UTC:20210820T230000
DTSTAMP:20260423T204735
CREATED:20210624T151746Z
LAST-MODIFIED:20210627T133610Z
UID:2011-1629489600-1629500400@yesjazzmatters.org
SUMMARY:6th Annual Jazz Matters At The Wren's Nest
DESCRIPTION:Mix in a whole lotta Jazz\, a dash of Soul\, a little pinch of R&B … now that’s a recipe for an evening of fun with featured artist keyboardist/producer and host of Midtown Atlanta Jam Session Al Smith; along with experiencing the amazing harmonies of KalligraFé\, with a special tribute to The Emotions; and The Edwin Williams Experience. \n \nAl Smith is an accomplished keyboardist and studio producer. Al thrills with a musical mastery of rhythm\, melody and sound featuring lush piano and string renditions to funky bass and drums. His virtuosity transcends his jazz beginnings to an eclectic ensemble of styles and genres. A metro Atlanta resident\, Al is also creator and producer of the wildly popular Midtown Atlanta Jam Session\, an artist showcase\, that provides a platform for local vocalists and musicians to display their talents. \n  \n  \n  \nKalligraFē is a musical group comprised of members\, LaToya (Toyé) Forman\, Bianca Tate\, and Nicole Pringle.  Admired for their signature sound\, this multifaceted collective consists of actresses\, songwriters\, directors and producers.  KalligraFē loves and believes there is healing in the arts; and they use their gifts to do just that. \n  \n  \n \nEdwin Williams is the founder of Jazz Matters Inc.\, a 501(c)(3) non-profit organization that promotes the Art of Jazz.   His film credits include Coming2America (2021) as a member of The Sexual Chocolate Band.  No stranger to the Atlanta music scene\, he was the featured bassist for over twenty years with the John Robertson Trio at the world renowned\, Dante’s Down the Hatch jazz club in Atlanta\, Georgia. Edwin has performed nationally and internationally with major jazz and R&B artists and with The Atlanta Symphony Orchestra’s in its annual “Soulful Christmas” production \n 
URL:https://yesjazzmatters.org/event/6th-annual-jazz-matters-at-the-wrens-nest
LOCATION:The Wren’s Nest\, 1050 Ralph David Abernathy Blvd\, Atlanta\, GA\, 30310\, United States
CATEGORIES:Blues,Contemporary Jazz,Jazz,Live Music,Smooth Jazz
ORGANIZER;CN="Jazz Matters Inc.":MAILTO:yesjazzmatters@gmail.com
END:VEVENT
BEGIN:VEVENT
DTSTART;TZID=UTC:20190816T200000
DTEND;TZID=UTC:20190816T230000
DTSTAMP:20260423T204735
CREATED:20190401T174255Z
LAST-MODIFIED:20190811T161956Z
UID:507-1565985600-1565996400@yesjazzmatters.org
SUMMARY:4th Annual Jazz Matters At The Wren's Nest summer concert series
DESCRIPTION:We’re beyond excited to have emerging artists Gia Nichole and Zach Wilson\, along with featuredartists Toni Redd\, Michael Cruse & Ken Gregory & The Solid State Band\, close out our 4th Annual Jazz Matters At The Wren’s Nest summer concert series. \nJoin us as we celebrate Jazz in the spirit of the Harlem Renaissance. Put on your finest “Renaissance” attire and your dancing shoes\, to enjoy a wonderful evening of music and fun. \nTickets are also available for a post-concert VIP Meet & Greet with featured artists. \nPURCHASE NOW (CLICK HERE) \n\nRain or Shine Event\nBring your chairs or blankets\nFood\, beverages and small tables are allowed\nNo grills or large tables\nWe can only accept credit/debit cards at the Gate. NO CASH\nGates open at 7:00p\nOnline Ticket Sales End Day Before Show. Tickets Available at the Gate\n\nPARKING: Ace Hardware*\, Wells Fargo Bank*\, West Hunter Street Baptist Church\, Apollo Realty\, Lottie Watkins \n*Special Shuttle Service from Wells Fargo Bank & Ace Hardware \n 
URL:https://yesjazzmatters.org/event/4th-annual-jazz-matters-at-the-wrens-nest-summer-concert-series
LOCATION:The Wren’s Nest\, 1050 Ralph David Abernathy Blvd\, Atlanta\, GA\, 30310\, United States
CATEGORIES:Blues,Contemporary Jazz,Jazz,Smooth Jazz
ORGANIZER;CN="Jazz Matters Inc.":MAILTO:yesjazzmatters@gmail.com
END:VEVENT
BEGIN:VEVENT
DTSTART;TZID=UTC:20190519T160000
DTEND;TZID=UTC:20190519T180000
DTSTAMP:20260423T204735
CREATED:20190220T074258Z
LAST-MODIFIED:20190404T040911Z
UID:443-1558281600-1558288800@yesjazzmatters.org
SUMMARY:Sunday Live!  A Jazz Experience
DESCRIPTION:Enjoy a wonderful afternoon celebrating the Art of Jazz in Atlanta’s Historic West End with The Edwin Williams Experience and special guest artists; Keyboardist – Zach Wilson; Trumpeter – Michael Cruse; and Vocalist – Etta Purcell. \nParking available at Wells Fargo Bank. \n  \n 
URL:https://yesjazzmatters.org/event/sunday-live-a-jazz-experience-2
LOCATION:West End Performing Arts Center\, 945 Ralph D. Abernathy Blvd.\, Atlanta\, GA\, 30310\, United States
CATEGORIES:Blues,Contemporary Jazz,Jazz,Smooth Jazz
ORGANIZER;CN="Edwin Williams Productions":MAILTO:edwinwilliamsmusic@gmail.com
END:VEVENT
BEGIN:VEVENT
DTSTART;TZID=UTC:20190512T160000
DTEND;TZID=UTC:20190512T180000
DTSTAMP:20260423T204735
CREATED:20190401T154638Z
LAST-MODIFIED:20190401T155856Z
UID:489-1557676800-1557684000@yesjazzmatters.org
SUMMARY:The Living Room Concert Series
DESCRIPTION:Enjoy an intimate concert in the The Wren’s Nest home museum’s living room on Mother’s Day with guitarist Larry Hall and Th.e Edwin Williams Experience \nJazz Matters\, Inc. & The Wren’s Nest partner to present an intimate concert series in the privacy of The Wren’s Nest home museum’s living room. Not only is this an opportunity for jazz enthusiasts to experience the best in Atlanta’s jazz artists\, it is also an opportunity to “discover” new emerging jazz artists; and participate in discussions on music\, culture and the art of jazz. \n  \n 
URL:https://yesjazzmatters.org/event/the-living-room-concert-series-4
LOCATION:The Wren’s Nest\, 1050 Ralph David Abernathy Blvd\, Atlanta\, GA\, 30310\, United States
CATEGORIES:Blues,Contemporary Jazz,Jazz,Smooth Jazz
ORGANIZER;CN="Jazz Matters Inc.":MAILTO:yesjazzmatters@gmail.com
END:VEVENT
BEGIN:VEVENT
DTSTART;TZID=UTC:20190424T193000
DTEND;TZID=UTC:20190424T230000
DTSTAMP:20260423T204735
CREATED:20190422T120441Z
LAST-MODIFIED:20190422T120441Z
UID:500-1556134200-1556146800@yesjazzmatters.org
SUMMARY:An Evening With Chaka Khan featuring TOYE
DESCRIPTION: Edwin Williams Productions presents actor\, singer\, songwriter\, Toye as she pays tribute to the incomparable Chaka Khan at MOYO Restaurant Bar & Grill\, Comfort Suites Atlanta Airport. \nMOYO African & American Fine Cuisine Restaurant is a full-service restaurant and bar. Food/Drink Minimums: One (1) food and/or drink purchase for each show. \nTwo shows: 7:30p & 9:30p \nFor more information call 404-474-1211.
URL:https://yesjazzmatters.org/event/an-evening-with-chaka-khan-featuring-toye-2
LOCATION:comfort suites clark howell parkway\, 5087 Clark Howell Highway\, Atlanta\, GA\, 30349\, United States
CATEGORIES:Contemporary Jazz,Jazz,Smooth Jazz
ORGANIZER;CN="Edwin Williams Productions":MAILTO:edwinwilliamsmusic@gmail.com
END:VEVENT
BEGIN:VEVENT
DTSTART;TZID=UTC:20190401T000000
DTEND;TZID=UTC:20190401T000000
DTSTAMP:20260423T204735
CREATED:20190401T160040Z
LAST-MODIFIED:20190401T160040Z
UID:397-1554076800-1554076800@yesjazzmatters.org
SUMMARY:Jazzy & Soulful Sunday Live with Tribute to Curtis Mayfield
DESCRIPTION:
URL:https://yesjazzmatters.org/event/jazzy-soulful-sunday-live-with-tribute-to-curtis-mayfield
LOCATION:GA
CATEGORIES:Blues,Contemporary Jazz,Jazz,Smooth Jazz
END:VEVENT
END:VCALENDAR