BEGIN:VCALENDAR
VERSION:2.0
PRODID:-//Jazz Matters - ECPv6.15.20//NONSGML v1.0//EN
CALSCALE:GREGORIAN
METHOD:PUBLISH
X-ORIGINAL-URL:https://yesjazzmatters.org
X-WR-CALDESC:Events for Jazz Matters
REFRESH-INTERVAL;VALUE=DURATION:PT1H
X-Robots-Tag:noindex
X-PUBLISHED-TTL:PT1H
BEGIN:VTIMEZONE
TZID:UTC
BEGIN:STANDARD
TZOFFSETFROM:+0000
TZOFFSETTO:+0000
TZNAME:UTC
DTSTART:20250101T000000
END:STANDARD
END:VTIMEZONE
BEGIN:VEVENT
DTSTART;TZID=UTC:20260517T160000
DTEND;TZID=UTC:20260517T180000
DTSTAMP:20260423T173937
CREATED:20251212T183219Z
LAST-MODIFIED:20260223T034210Z
UID:4398-1779033600-1779040800@yesjazzmatters.org
SUMMARY:Celebrating George Benson
DESCRIPTION:
URL:https://yesjazzmatters.org/event/celebrating-jazz-icons-series
LOCATION:PLYWOOD PLACE\, 933 Lee St SW Suite B-1\, Atlanta\, 30310\, United States
CATEGORIES:Contemporary Jazz,Jazz,Live Music,Smooth Jazz
END:VEVENT
BEGIN:VEVENT
DTSTART;TZID=UTC:20260816T170000
DTEND;TZID=UTC:20260816T190000
DTSTAMP:20260423T173937
CREATED:20251212T183623Z
LAST-MODIFIED:20260115T213813Z
UID:4400-1786899600-1786906800@yesjazzmatters.org
SUMMARY:Celebrating Jazz Icons Series
DESCRIPTION:Celebrating Jazz ICONS Series February 15th; May 17th; August 16th and October 18th.
URL:https://yesjazzmatters.org/event/celebrating-jazz-icons-series-2
LOCATION:PLYWOOD PLACE\, 933 Lee St SW Suite B-1\, Atlanta\, 30310\, United States
CATEGORIES:Contemporary Jazz,Jazz,Live Music,Smooth Jazz
END:VEVENT
BEGIN:VEVENT
DTSTART;TZID=UTC:20261018T170000
DTEND;TZID=UTC:20261018T190000
DTSTAMP:20260423T173937
CREATED:20251212T184204Z
LAST-MODIFIED:20251212T184323Z
UID:4403-1792342800-1792350000@yesjazzmatters.org
SUMMARY:Celebrating Jazz ICONS Series
DESCRIPTION:Celebrating Jazz ICONS Series February 15th; May 17th; August 16th and October 18th.
URL:https://yesjazzmatters.org/event/celebrating-jazz-icons-series-3
LOCATION:PLYWOOD PLACE\, 933 Lee St SW Suite B-1\, Atlanta\, 30310\, United States
CATEGORIES:Contemporary Jazz,Jazz,Live Music,Smooth Jazz
END:VEVENT
END:VCALENDAR